BEGIN:VCALENDAR
VERSION:2.0
PRODID:-//心斎橋ショベル - ECPv6.6.3//NONSGML v1.0//EN
CALSCALE:GREGORIAN
METHOD:PUBLISH
X-WR-CALNAME:心斎橋ショベル
X-ORIGINAL-URL:https://1469st.com
X-WR-CALDESC:心斎橋ショベル のイベント
REFRESH-INTERVAL;VALUE=DURATION:PT1H
X-Robots-Tag:noindex
X-PUBLISHED-TTL:PT1H
BEGIN:VTIMEZONE
TZID:Asia/Tokyo
BEGIN:STANDARD
TZOFFSETFROM:+0900
TZOFFSETTO:+0900
TZNAME:JST
DTSTART:20240101T000000
END:STANDARD
END:VTIMEZONE
BEGIN:VEVENT
DTSTART;TZID=Asia/Tokyo:20241112T080000
DTEND;TZID=Asia/Tokyo:20241112T170000
DTSTAMP:20260422T135655
CREATED:20240824T103556Z
LAST-MODIFIED:20241003T172338Z
UID:627-1731398400-1731430800@1469st.com
SUMMARY:DAMNED×リリカ東名阪2MAN TOUR 『抜け駆け』
DESCRIPTION:2024/11/12 (Tue) \n心斎橋Shovel \nOPEN / START\n17:30/ 18:00 \nTICKET\nADV￥3500 / DOOR￥4000（D代別） \nACT\nDAMNED / リリカ \n10/6(日) 12:00~ e＋にて発売開始 \nhttps://eplus.jp/sf/detail/4161190001-P0030001 \n 
URL:https://1469st.com/event/damnedx%e3%83%aa%e3%83%aa%e3%82%ab%e6%9d%b1%e5%90%8d%e9%98%aa2man-tour-%e3%80%8e%e6%8a%9c%e3%81%91%e9%a7%86%e3%81%91%e3%80%8f/
CATEGORIES:event
END:VEVENT
END:VCALENDAR