BEGIN:VCALENDAR
VERSION:2.0
PRODID:-//心斎橋ショベル - ECPv6.6.3//NONSGML v1.0//EN
CALSCALE:GREGORIAN
METHOD:PUBLISH
X-ORIGINAL-URL:https://1469st.com
X-WR-CALDESC:心斎橋ショベル のイベント
REFRESH-INTERVAL;VALUE=DURATION:PT1H
X-Robots-Tag:noindex
X-PUBLISHED-TTL:PT1H
BEGIN:VTIMEZONE
TZID:Asia/Tokyo
BEGIN:STANDARD
TZOFFSETFROM:+0900
TZOFFSETTO:+0900
TZNAME:JST
DTSTART:20240101T000000
END:STANDARD
END:VTIMEZONE
BEGIN:VEVENT
DTSTART;TZID=Asia/Tokyo:20241110T090000
DTEND;TZID=Asia/Tokyo:20241110T113000
DTSTAMP:20260422T140511
CREATED:20241109T231421Z
LAST-MODIFIED:20241109T231518Z
UID:965-1731229200-1731238200@1469st.com
SUMMARY:朝一W.単独ライブ
DESCRIPTION:『朝一W.単独ライブ』\n会場：SHOVEL\n開場：09:00\n開演：09:15\n料金：前方1\,000円後方無料\n(要予約)
URL:https://1469st.com/event/%e3%80%8e%e6%9c%9d%e4%b8%80w-%e5%8d%98%e7%8b%ac%e3%83%a9%e3%82%a4%e3%83%96%e3%80%8f/
CATEGORIES:event
END:VEVENT
BEGIN:VEVENT
DTSTART;TZID=Asia/Tokyo:20241110T163000
DTEND;TZID=Asia/Tokyo:20241110T220000
DTSTAMP:20260422T140511
CREATED:20240824T102042Z
LAST-MODIFIED:20241109T231459Z
UID:623-1731256200-1731276000@1469st.com
SUMMARY:Back to the 80's
DESCRIPTION:2024年11月10日 (日)\n心斎橋SHOVEL \nBack to the 80’s \n【Cast】\nZ∀KUTUNK / X to RAY /\nJenny＆Mary /\nKHOZY BAND / XXX \nOpen 16 : 30\nStart 17 : 00 \n【Ticket】\nadv・¥2500\ndoor・ ¥3000\n( ＋1ドリンク代 ¥600) \nチケットは各バンド予約\n入場順は整列順
URL:https://1469st.com/event/back-to-the-80s/
CATEGORIES:event
END:VEVENT
END:VCALENDAR