BEGIN:VCALENDAR
VERSION:2.0
PRODID:-//心斎橋ショベル - ECPv6.6.3//NONSGML v1.0//EN
CALSCALE:GREGORIAN
METHOD:PUBLISH
X-WR-CALNAME:心斎橋ショベル
X-ORIGINAL-URL:https://1469st.com
X-WR-CALDESC:心斎橋ショベル のイベント
REFRESH-INTERVAL;VALUE=DURATION:PT1H
X-Robots-Tag:noindex
X-PUBLISHED-TTL:PT1H
BEGIN:VTIMEZONE
TZID:Asia/Tokyo
BEGIN:STANDARD
TZOFFSETFROM:+0900
TZOFFSETTO:+0900
TZNAME:JST
DTSTART:20240101T000000
END:STANDARD
END:VTIMEZONE
BEGIN:VEVENT
DTSTART;TZID=Asia/Tokyo:20241109T080000
DTEND;TZID=Asia/Tokyo:20241109T170000
DTSTAMP:20260422T140445
CREATED:20240905T120038Z
LAST-MODIFIED:20241103T071747Z
UID:659-1731139200-1731171600@1469st.com
SUMMARY:寺沢功一 ベース1本一人旅 デビュー40周年ソロライブツアー ～晩秋の旅～
DESCRIPTION:寺沢功一 ベース1本一人旅\nデビュー40周年ソロライブツアー ～晩秋の旅～ \n長年に渡ってレコーディングしてきた数々の名曲の中から選りすぐりをお届けします。 \nベースをフィーチャーしたライブです！ \n終演後にお客様と乾杯をして一緒に会話を楽しんでいただくアフターパーティーがあります。\n【演奏予定アーティスト】\nSLY、B’z、BLIZARD、Rider Chips、アイドル、アニソン、CMソング他 \n☆2024年11月9日（土）☆\n心斎橋SHOVEL\n大阪府大阪市中央区西心斎橋2-4-17\nおおきに花月久左衛門ビル2号B1F\nTEL 06-4256-4565\nhttps://1469st.com \n★ソロライブの後、地元ミュージシャンとのセッションライブがあります！ \n【料金】\n前売 4\,000円\n当日 4\,500円\n（ドリンク別 600円） \n【時間】\n開場 17:30\n開演 18:00 \n【アフターパーティー料金】\n2\,000円（1ドリンク、おつまみ付）\n※2ドリンク以降キャッシュオン \n【チケット予約方法】\n◯ホームページから\nhttps://1469st.com/contact-4/\n◯もしくは下記メールアドレスへ、お名前、希望枚数、アフターパーティー参加の有無を明記して送ってください。\nshovel1469@gmail.com \n”最新”セッション曲はこちら
URL:https://1469st.com/event/%e5%af%ba%e6%b2%a2%e5%8a%9f%e4%b8%80-%e3%83%99%e3%83%bc%e3%82%b91%e6%9c%ac%e4%b8%80%e4%ba%ba%e6%97%85-%e3%83%87%e3%83%93%e3%83%a5%e3%83%bc40%e5%91%a8%e5%b9%b4%e3%82%bd%e3%83%ad%e3%83%a9%e3%82%a4/
CATEGORIES:event
END:VEVENT
END:VCALENDAR