BEGIN:VCALENDAR
VERSION:2.0
PRODID:-//心斎橋ショベル - ECPv6.6.3//NONSGML v1.0//EN
CALSCALE:GREGORIAN
METHOD:PUBLISH
X-WR-CALNAME:心斎橋ショベル
X-ORIGINAL-URL:https://1469st.com
X-WR-CALDESC:心斎橋ショベル のイベント
REFRESH-INTERVAL;VALUE=DURATION:PT1H
X-Robots-Tag:noindex
X-PUBLISHED-TTL:PT1H
BEGIN:VTIMEZONE
TZID:Asia/Tokyo
BEGIN:STANDARD
TZOFFSETFROM:+0900
TZOFFSETTO:+0900
TZNAME:JST
DTSTART:20240101T000000
END:STANDARD
END:VTIMEZONE
BEGIN:VEVENT
DTSTART;TZID=Asia/Tokyo:20241020T080000
DTEND;TZID=Asia/Tokyo:20241020T170000
DTSTAMP:20260422T152512
CREATED:20240921T113209Z
LAST-MODIFIED:20241003T175105Z
UID:745-1729411200-1729443600@1469st.com
SUMMARY:アイドル界隈ぶち上げ⤴︎⤴︎
DESCRIPTION:【日程】10月20日(日)\n【タイトル】アイドル界隈ぶち上げ⤴︎⤴︎\n【会場】心斎橋SHOVEL\n【時間】Open 16:45 / Start 17:15\n【料金】前売￥2\,500 / 当日￥3\,000(別途1D)\n【出演】\nマイフェアガ→ル／EURO’N NIGHT／MIKADO／整形総額1000万円?!スーパーアイドルバンド／REVERSI／ユノローグ／苺愛あまね／甘宮めるも／神八つかさ\n【チケット】\nAチケット：10/20オープン前に心斎橋SHOVEL入り口にて販売(16:10〜16:30)\nBチケット：バンド予約\nCチケット：当日券\n【入場順】\nAチケット→Bチケット→Cチケット
URL:https://1469st.com/event/%e3%82%a2%e3%82%a4%e3%83%89%e3%83%ab%e7%95%8c%e9%9a%88%e3%81%b6%e3%81%a1%e4%b8%8a%e3%81%92%e2%a4%b4%ef%b8%8e%e2%a4%b4%ef%b8%8e/
CATEGORIES:event
END:VEVENT
END:VCALENDAR