BEGIN:VCALENDAR
VERSION:2.0
PRODID:-//心斎橋ショベル - ECPv6.6.3//NONSGML v1.0//EN
CALSCALE:GREGORIAN
METHOD:PUBLISH
X-ORIGINAL-URL:https://1469st.com
X-WR-CALDESC:心斎橋ショベル のイベント
REFRESH-INTERVAL;VALUE=DURATION:PT1H
X-Robots-Tag:noindex
X-PUBLISHED-TTL:PT1H
BEGIN:VTIMEZONE
TZID:Asia/Tokyo
BEGIN:STANDARD
TZOFFSETFROM:+0900
TZOFFSETTO:+0900
TZNAME:JST
DTSTART:20240101T000000
END:STANDARD
END:VTIMEZONE
BEGIN:VEVENT
DTSTART;TZID=Asia/Tokyo:20241019T120000
DTEND;TZID=Asia/Tokyo:20241019T153000
DTSTAMP:20260422T152738
CREATED:20241015T124223Z
LAST-MODIFIED:20241015T124223Z
UID:923-1729339200-1729351800@1469st.com
SUMMARY:アイラバ6マン
DESCRIPTION:【表題】アイラバ6マン\n【日程】2024年10月19日(土)\n【場所】心斎橋SHOVEL\n【時間】OPEN12:00 / START 12:20\n【価格】優先2000円/一般1500円/女性&学生500円(別途1ドリンク) \n【出演】\n五代目KONAMON/コドモシンカ/すたんぴっ！/ぷりしえーる/ボクセカ/リリシック学園 \n◼️前売チケット\nhttps://tiget.net/events/353820\n10/15(火)22:00 \n※番号順入場(優先→一般→女性&学生→当日)\n※撮影(各演者様ルール) \n企画・制作\nIDOLISM JAPAN公式twitter\nhttps://t.co/19wJs0Cv26
URL:https://1469st.com/event/%e3%82%a2%e3%82%a4%e3%83%a9%e3%83%906%e3%83%9e%e3%83%b3/
CATEGORIES:event
END:VEVENT
BEGIN:VEVENT
DTSTART;TZID=Asia/Tokyo:20241019T160000
DTEND;TZID=Asia/Tokyo:20241019T220000
DTSTAMP:20260422T152738
CREATED:20240921T113154Z
LAST-MODIFIED:20241015T123906Z
UID:743-1729353600-1729375200@1469st.com
SUMMARY:「#BEMYLOVE ふわり卒業公演」
DESCRIPTION:10月19日（土）心斎橋SHOVEL\n「#BEMYLOVE ふわり卒業公演」 \nhttps://tiget.net/events/350413\n9/30 21:49予約開始 \nSチケット:5000円 D別\n（優先入場、オリジナルアクスタ、ミニメッセージ付）\nAチケット:1000円 D別
URL:https://1469st.com/event/%e3%80%8cbemylove-%e3%81%b5%e3%82%8f%e3%82%8a%e5%8d%92%e6%a5%ad%e5%85%ac%e6%bc%94%e3%80%8d/
CATEGORIES:event
END:VEVENT
END:VCALENDAR