BEGIN:VCALENDAR
VERSION:2.0
PRODID:-//心斎橋ショベル - ECPv6.6.3//NONSGML v1.0//EN
CALSCALE:GREGORIAN
METHOD:PUBLISH
X-WR-CALNAME:心斎橋ショベル
X-ORIGINAL-URL:https://1469st.com
X-WR-CALDESC:心斎橋ショベル のイベント
REFRESH-INTERVAL;VALUE=DURATION:PT1H
X-Robots-Tag:noindex
X-PUBLISHED-TTL:PT1H
BEGIN:VTIMEZONE
TZID:Asia/Tokyo
BEGIN:STANDARD
TZOFFSETFROM:+0900
TZOFFSETTO:+0900
TZNAME:JST
DTSTART:20240101T000000
END:STANDARD
END:VTIMEZONE
BEGIN:VEVENT
DTSTART;TZID=Asia/Tokyo:20241018T080000
DTEND;TZID=Asia/Tokyo:20241018T170000
DTSTAMP:20260422T152614
CREATED:20241014T115739Z
LAST-MODIFIED:20241014T115918Z
UID:916-1729238400-1729270800@1469st.com
SUMMARY:【あなたと私の二人夜話】
DESCRIPTION:２０２４年１０月１８日(金)\n【あなたと私の二人夜話】 \n心斎橋SHOVEL\n臨時バー営業イベント開催 \n二人夜話 第二夜のゲスト\nざくちん(R.L.S・Z∀KUTUNK) \nOpen 19 : 00\nClosed 23 : 00\n(ラストオーダー 22 : 40) \nテーブルチャージ ¥300 \n参加自由\n営業時間中、飲みながら【あなたと私】のトークタイム。\n皆様の気紛れをお待ちしております。 \n心斎橋SHOVEL公式サイト　1469st.com\nお問い合わせ✉️　shovel1469@gmail.com
URL:https://1469st.com/event/futari2/
CATEGORIES:event
END:VEVENT
END:VCALENDAR