BEGIN:VCALENDAR
VERSION:2.0
PRODID:-//心斎橋ショベル - ECPv6.6.3//NONSGML v1.0//EN
CALSCALE:GREGORIAN
METHOD:PUBLISH
X-WR-CALNAME:心斎橋ショベル
X-ORIGINAL-URL:https://1469st.com
X-WR-CALDESC:心斎橋ショベル のイベント
REFRESH-INTERVAL;VALUE=DURATION:PT1H
X-Robots-Tag:noindex
X-PUBLISHED-TTL:PT1H
BEGIN:VTIMEZONE
TZID:Asia/Tokyo
BEGIN:STANDARD
TZOFFSETFROM:+0900
TZOFFSETTO:+0900
TZNAME:JST
DTSTART:20240101T000000
END:STANDARD
END:VTIMEZONE
BEGIN:VEVENT
DTSTART;TZID=Asia/Tokyo:20241014T093000
DTEND;TZID=Asia/Tokyo:20241014T150000
DTSTAMP:20260422T152551
CREATED:20240921T113137Z
LAST-MODIFIED:20241005T011409Z
UID:741-1728898200-1728918000@1469st.com
SUMMARY:『みんがる vol.97』
DESCRIPTION:10月14日(月祝) \n会場:心斎橋SHOVEL\n一般:1\,000円 / 当日:1\,500円(各1D別途) \n①開場 9:30 / 開演 9:50\n②開場 12:20 / 開演 12:40 \n【10/5(土) 22:00発売開始】\n🔗チケ発と同時公開
URL:https://1469st.com/event/%e3%80%8e%e3%81%bf%e3%82%93%e3%81%8c%e3%82%8b-vol-97%e3%80%8f/
CATEGORIES:event
END:VEVENT
BEGIN:VEVENT
DTSTART;TZID=Asia/Tokyo:20241014T153000
DTEND;TZID=Asia/Tokyo:20241014T180000
DTSTAMP:20260422T152551
CREATED:20241007T153129Z
LAST-MODIFIED:20241007T153129Z
UID:908-1728919800-1728928800@1469st.com
SUMMARY:#2マンin大阪
DESCRIPTION:▼タイトル：#2マンin大阪\n▼日時：10/14(月祝) \nOPEN 15:30 / START 15:50\n▼会場：心斎橋 SHOVEL\n大阪府大阪市中央区西心斎橋2丁目4-17 \n▼料金：\n【1部】①前方チケット2500円/ ②通常チケット1000円/ ③当日券+1000円 \n▼前売チケット： \n▼出演：\n#ジューロック、#Pannana \n▼入場順：①前売チケット整理番号順②通常チケット整理番号順③当日券(整列順)
URL:https://1469st.com/event/2%e3%83%9e%e3%83%b3in%e5%a4%a7%e9%98%aa/
CATEGORIES:event
END:VEVENT
BEGIN:VEVENT
DTSTART;TZID=Asia/Tokyo:20241014T183000
DTEND;TZID=Asia/Tokyo:20241014T210000
DTSTAMP:20260422T152551
CREATED:20241005T011844Z
LAST-MODIFIED:20241005T011844Z
UID:876-1728930600-1728939600@1469st.com
SUMMARY:#ジューロック4周年記念東名阪ツアー「〜繋がる未来、信じた道へ〜」大阪編
DESCRIPTION:10/14(月祝) \n【ツアー大阪公演】\n#ジューロック4周年記念東名阪ツアー「〜繋がる未来、信じた道へ〜」大阪編 \n▼料金：\n①前方チケット3500円/②通常チケット1000円/③当日券+1000円 \n▼前売チケット：https://t.livepocket.jp/e/osaka1014 \n▼出演：\n#ジューロック \n▼入場順：①前売チケット整理番号順②通常チケット整理番号順③当日券(整列順)
URL:https://1469st.com/event/%e3%82%b8%e3%83%a5%e3%83%bc%e3%83%ad%e3%83%83%e3%82%af4%e5%91%a8%e5%b9%b4%e8%a8%98%e5%bf%b5%e6%9d%b1%e5%90%8d%e9%98%aa%e3%83%84%e3%82%a2%e3%83%bc%e3%80%8c%e3%80%9c%e7%b9%8b%e3%81%8c%e3%82%8b%e6%9c%aa/
CATEGORIES:event
END:VEVENT
END:VCALENDAR