BEGIN:VCALENDAR
VERSION:2.0
PRODID:-//心斎橋ショベル - ECPv6.6.3//NONSGML v1.0//EN
CALSCALE:GREGORIAN
METHOD:PUBLISH
X-ORIGINAL-URL:https://1469st.com
X-WR-CALDESC:心斎橋ショベル のイベント
REFRESH-INTERVAL;VALUE=DURATION:PT1H
X-Robots-Tag:noindex
X-PUBLISHED-TTL:PT1H
BEGIN:VTIMEZONE
TZID:Asia/Tokyo
BEGIN:STANDARD
TZOFFSETFROM:+0900
TZOFFSETTO:+0900
TZNAME:JST
DTSTART:20240101T000000
END:STANDARD
END:VTIMEZONE
BEGIN:VEVENT
DTSTART;TZID=Asia/Tokyo:20241006T080000
DTEND;TZID=Asia/Tokyo:20241006T170000
DTSTAMP:20260422T152819
CREATED:20240816T093511Z
LAST-MODIFIED:20241003T171803Z
UID:600-1728201600-1728234000@1469st.com
SUMMARY:THE PICNIC MONSTERS in OSAKA
DESCRIPTION:THE PICNIC MONSTERS in OSAKA\n10月6日(日)心斎橋SHOVEL\n前売り￥4\,400＋D /当日￥4\,900＋D\nOPEN 17:30 / START 18:00 \nACT\nえんそく / Leetspeak monsters \ne＋プレオーダー(A001～)\n【受付期間】：7月12日(金)10:00～7月18日((木))23:59\n【入金期間】：7月22日(月)13:00～7月25日(木)21:00 \n一般チケット(B001～)\n8月3日(土)よりe＋にてチケット販売開始 \n■購入ページURL\nhttps://eplus.jp/sf/detail/4126860001-P0030001 \n入場順　A→B→当日券 \n企画/制作　寺子屋 ＆ GLK MUSIC
URL:https://1469st.com/event/the-picnic-monsters-in-osaka/
CATEGORIES:event
END:VEVENT
END:VCALENDAR