BEGIN:VCALENDAR
VERSION:2.0
PRODID:-//心斎橋ショベル - ECPv6.6.3//NONSGML v1.0//EN
CALSCALE:GREGORIAN
METHOD:PUBLISH
X-ORIGINAL-URL:https://1469st.com
X-WR-CALDESC:心斎橋ショベル のイベント
REFRESH-INTERVAL;VALUE=DURATION:PT1H
X-Robots-Tag:noindex
X-PUBLISHED-TTL:PT1H
BEGIN:VTIMEZONE
TZID:Asia/Tokyo
BEGIN:STANDARD
TZOFFSETFROM:+0900
TZOFFSETTO:+0900
TZNAME:JST
DTSTART:20240101T000000
END:STANDARD
END:VTIMEZONE
BEGIN:VEVENT
DTSTART;TZID=Asia/Tokyo:20240929T080000
DTEND;TZID=Asia/Tokyo:20240929T170000
DTSTAMP:20260422T164255
CREATED:20240816T092240Z
LAST-MODIFIED:20241003T172722Z
UID:598-1727596800-1727629200@1469st.com
SUMMARY:心斎橋合戦絵巻
DESCRIPTION:2024年9月29日 (日)\n心斎橋SHOVEL \n心斎橋合戦絵巻 \n【Cast】\nWINDZOR / DEATH☆LAND /\nCINEMA NUTS /\nLightning Spears \nOpen 16 : 30\nStart 17 : 00 \n【Ticket】\nadv・¥3000\ndoor・ ¥3500\n( ＋1ドリンク代 ¥600) \nチケットは各バンド予約\n入場は整列順
URL:https://1469st.com/event/%e5%bf%83%e6%96%8e%e6%a9%8b%e5%90%88%e6%88%a6%e7%b5%b5%e5%b7%bb/
CATEGORIES:event
END:VEVENT
END:VCALENDAR