BEGIN:VCALENDAR
VERSION:2.0
PRODID:-//心斎橋ショベル - ECPv6.6.3//NONSGML v1.0//EN
CALSCALE:GREGORIAN
METHOD:PUBLISH
X-ORIGINAL-URL:https://1469st.com
X-WR-CALDESC:心斎橋ショベル のイベント
REFRESH-INTERVAL;VALUE=DURATION:PT1H
X-Robots-Tag:noindex
X-PUBLISHED-TTL:PT1H
BEGIN:VTIMEZONE
TZID:Asia/Tokyo
BEGIN:STANDARD
TZOFFSETFROM:+0900
TZOFFSETTO:+0900
TZNAME:JST
DTSTART:20240101T000000
END:STANDARD
END:VTIMEZONE
BEGIN:VEVENT
DTSTART;TZID=Asia/Tokyo:20240928T080000
DTEND;TZID=Asia/Tokyo:20240928T170000
DTSTAMP:20260422T165338
CREATED:20240905T122649Z
LAST-MODIFIED:20241003T172751Z
UID:663-1727510400-1727542800@1469st.com
SUMMARY:飛鳥生誕〜イベント日と誕生日がめっちゃ被りました祭り〜
DESCRIPTION:2024年09月28日 (土)\n心斎橋SHOVEL \n【飛鳥生誕〜イベント日と誕生日がめっちゃ被りました祭り〜】 \n【Cast】\nJecco. / D-friend’s\nFUNKでポンっ / Táft /\nRabbits \nOpen 17 : 00\nStart 17 : 30 \n【Ticket】\n¥2000 (＋1D代 ¥600) \nチケットは各バンド予約\n入場順は整列順
URL:https://1469st.com/event/%e9%a3%9b%e9%b3%a5%e7%94%9f%e8%aa%95%e3%80%9c%e3%82%a4%e3%83%99%e3%83%b3%e3%83%88%e6%97%a5%e3%81%a8%e8%aa%95%e7%94%9f%e6%97%a5%e3%81%8c%e3%82%81%e3%81%a3%e3%81%a1%e3%82%83%e8%a2%ab%e3%82%8a%e3%81%be/
CATEGORIES:event
END:VEVENT
END:VCALENDAR