BEGIN:VCALENDAR
VERSION:2.0
PRODID:-//心斎橋ショベル - ECPv6.6.3//NONSGML v1.0//EN
CALSCALE:GREGORIAN
METHOD:PUBLISH
X-WR-CALNAME:心斎橋ショベル
X-ORIGINAL-URL:https://1469st.com
X-WR-CALDESC:心斎橋ショベル のイベント
REFRESH-INTERVAL;VALUE=DURATION:PT1H
X-Robots-Tag:noindex
X-PUBLISHED-TTL:PT1H
BEGIN:VTIMEZONE
TZID:Asia/Tokyo
BEGIN:STANDARD
TZOFFSETFROM:+0900
TZOFFSETTO:+0900
TZNAME:JST
DTSTART:20240101T000000
END:STANDARD
END:VTIMEZONE
BEGIN:VEVENT
DTSTART;TZID=Asia/Tokyo:20240921T080000
DTEND;TZID=Asia/Tokyo:20240921T170000
DTSTAMP:20260422T164026
CREATED:20240711T065627Z
LAST-MODIFIED:20241003T173008Z
UID:510-1726905600-1726938000@1469st.com
SUMMARY:SHOWMANSHIP-3×3- 夜明けに集うは独創者の主張
DESCRIPTION:SHOWMANSHIP-3×3- ～夜明けに集うは独創者の主張～ 大阪公演、東京公演Day3に関して \n  \n9月21日（土） 心斎橋Bigtwin Diner SHOVEL、9月23日（月・祝） 大塚Hearts+にて開催のSHOWMANSHIP-3×3- ～夜明けに集うは独創者の主張～ 大阪公演、東京公演Day3は予定通りイベントを開催いたします。 \nこの度は久我新悟様(LIPHLICH)の訃報を受け主催並びに出演者、株式会社ロッキートーキー様を含め入念なる話し合いをさせていただきました。 \n生前に久我新悟様(LIPHLICH)とお話しさせていただいておりました条件と意志そのまま尊重し、『Dawnman』『私は浮かびながら沈む』の2マンという形とはなりますが変更なくイベント開催とさせていただきます。 \nまた、入場時のリサーチに関しまして『久我新悟(LIPHLICH)』のリサーチも取らせていただきます。\n運営面、制作側の話しとなり大変恐縮ではありますが、生前に久我様とお話しさせていただいておりました条件をそのままの取り組みにて開催させていただきます。 \n今回払い戻しの対応はございませんが、是非皆さまのイベントへのご参加を心よりお待ち申し上げます。 \n東京公演Day3\n9月23日（月・祝） 大塚Hearts+\nにはDawnmanのサポートギタリストに新井崇之(LIPHLICH)(ゲストにて1曲参加)を迎えての開催とさせていただきます。 \n8月20日、高田馬場CLUBPHASEにて開催を延期しております東京公演Day2の振替公演、並びに払い戻しの対応はただいま振替公演の日程調整中となっております。\n調整整い次第告知をさせていただきます。チケットは失くさぬよう保管をお願いします。 \n  \n9月21日(土)心斎橋SHOVEL\nDawnman×久我新悟(LIPHLICH)×私は浮かびながら沈む\n3ヶ月連続3マン企画\nSHOWMANSHIP-3×3-\n夜明けに集うは独創者の主張 \n前売り￥4\,400＋D /当日￥4\,900＋D\nopen17:30/start18:00 \nACT\nDawnman / 久我新悟(LIPHLICH) / 私は浮かびながら沈む \nDawnman Member\nVo.D13\nGt.尚虎\nBa.JITAN\nDr.将(umbrella) \nチケット発売日\n5月25日(土)よりe＋にてチケット発売開始\n■購入ページURL\nhttps://eplus.jp/sf/detail/4100680001-P0030001 \n企画/制作 GLK MUSIC
URL:https://1469st.com/event/showmanship-3x3-%e5%a4%9c%e6%98%8e%e3%81%91%e3%81%ab%e9%9b%86%e3%81%86%e3%81%af%e7%8b%ac%e5%89%b5%e8%80%85%e3%81%ae%e4%b8%bb%e5%bc%b5/
CATEGORIES:event
END:VEVENT
END:VCALENDAR