BEGIN:VCALENDAR
VERSION:2.0
PRODID:-//心斎橋ショベル - ECPv6.6.3//NONSGML v1.0//EN
CALSCALE:GREGORIAN
METHOD:PUBLISH
X-WR-CALNAME:心斎橋ショベル
X-ORIGINAL-URL:https://1469st.com
X-WR-CALDESC:心斎橋ショベル のイベント
REFRESH-INTERVAL;VALUE=DURATION:PT1H
X-Robots-Tag:noindex
X-PUBLISHED-TTL:PT1H
BEGIN:VTIMEZONE
TZID:Asia/Tokyo
BEGIN:STANDARD
TZOFFSETFROM:+0900
TZOFFSETTO:+0900
TZNAME:JST
DTSTART:20240101T000000
END:STANDARD
END:VTIMEZONE
BEGIN:VEVENT
DTSTART;TZID=Asia/Tokyo:20240915T080000
DTEND;TZID=Asia/Tokyo:20240915T170000
DTSTAMP:20260422T164105
CREATED:20240801T122749Z
LAST-MODIFIED:20241003T173044Z
UID:566-1726387200-1726419600@1469st.com
SUMMARY:BEYOND THE HARD TIME
DESCRIPTION:2024.09.15(SUN)\n心斎橋SHOVEL\n“BEYOND THE HARD TIME” \nOPEN 17:30 / START 18:00\nadv 3\,500yen / door 4\,000yen \nact \nBOOTS WALKER\nFILL IT UP\nSolid State Brain\nSocial Antz
URL:https://1469st.com/event/beyond-the-hard-time/
CATEGORIES:event
END:VEVENT
END:VCALENDAR