BEGIN:VCALENDAR
VERSION:2.0
PRODID:-//心斎橋ショベル - ECPv6.6.3//NONSGML v1.0//EN
CALSCALE:GREGORIAN
METHOD:PUBLISH
X-ORIGINAL-URL:https://1469st.com
X-WR-CALDESC:心斎橋ショベル のイベント
REFRESH-INTERVAL;VALUE=DURATION:PT1H
X-Robots-Tag:noindex
X-PUBLISHED-TTL:PT1H
BEGIN:VTIMEZONE
TZID:Asia/Tokyo
BEGIN:STANDARD
TZOFFSETFROM:+0900
TZOFFSETTO:+0900
TZNAME:JST
DTSTART:20240101T000000
END:STANDARD
END:VTIMEZONE
BEGIN:VEVENT
DTSTART;TZID=Asia/Tokyo:20240908T080000
DTEND;TZID=Asia/Tokyo:20240908T170000
DTSTAMP:20260422T164255
CREATED:20240812T082009Z
LAST-MODIFIED:20241003T173145Z
UID:582-1725782400-1725814800@1469st.com
SUMMARY:Rock 'n' Roll Syndrome -Tribute Band Live Show Vol.1-
DESCRIPTION:2024.09.08(SUN) \nRock ‘n’ Roll Syndrome \n-Tribute Band Live Show Vol.1- \nDOOR ￥1\,500 (＋1Drink ￥600) \nOPEN 14:30 / START 15:00 \n-ACT- \n酔狂RIFT \n高島＆friends \nHYDELESS \nザキヤマフェロモン \nO・K・B
URL:https://1469st.com/event/rock-n-roll-syndrome-tribute-band-live-show-vol-1/
CATEGORIES:event
END:VEVENT
END:VCALENDAR