BEGIN:VCALENDAR
VERSION:2.0
PRODID:-//心斎橋ショベル - ECPv6.6.3//NONSGML v1.0//EN
CALSCALE:GREGORIAN
METHOD:PUBLISH
X-ORIGINAL-URL:https://1469st.com
X-WR-CALDESC:心斎橋ショベル のイベント
REFRESH-INTERVAL;VALUE=DURATION:PT1H
X-Robots-Tag:noindex
X-PUBLISHED-TTL:PT1H
BEGIN:VTIMEZONE
TZID:Asia/Tokyo
BEGIN:STANDARD
TZOFFSETFROM:+0900
TZOFFSETTO:+0900
TZNAME:JST
DTSTART:20240101T000000
END:STANDARD
END:VTIMEZONE
BEGIN:VEVENT
DTSTART;TZID=Asia/Tokyo:20240907T080000
DTEND;TZID=Asia/Tokyo:20240907T170000
DTSTAMP:20260422T164254
CREATED:20240904T101147Z
LAST-MODIFIED:20241003T173235Z
UID:656-1725696000-1725728400@1469st.com
SUMMARY:あおぞらをキミに単独公演
DESCRIPTION:あおぞらをキミに単独公演\n9/7(土)心斎橋SHOVEL\n開場14:30/開演14:50\nカメラ席8\,000円\n一般500円/当日1\,000円\n女性・新規無料(各別途1D) \n9/5 21:00～予約開始\nhttps://tiget.net/events/344889
URL:https://1469st.com/event/%e3%81%82%e3%81%8a%e3%81%9e%e3%82%89%e3%82%92%e3%82%ad%e3%83%9f%e3%81%ab%e5%8d%98%e7%8b%ac%e5%85%ac%e6%bc%94/
CATEGORIES:event
END:VEVENT
BEGIN:VEVENT
DTSTART;TZID=Asia/Tokyo:20240907T080000
DTEND;TZID=Asia/Tokyo:20240907T170000
DTSTAMP:20260422T164254
CREATED:20240906T093742Z
LAST-MODIFIED:20241003T173213Z
UID:669-1725696000-1725728400@1469st.com
SUMMARY:W.ダブルヴィー単独公演
DESCRIPTION:9/7(土) \nW.ダブルヴィー単独公演 \n17:20開場 / 17:40開演 \n料金： \nカメラ席　2席　8\,000円 \n一般500円 \n当日+500円 \n(別途1ドリンク￥600必要)
URL:https://1469st.com/event/w-%e3%83%80%e3%83%96%e3%83%ab%e3%83%b4%e3%82%a3%e3%83%bc%e5%8d%98%e7%8b%ac%e5%85%ac%e6%bc%94/
CATEGORIES:event
END:VEVENT
END:VCALENDAR