BEGIN:VCALENDAR
VERSION:2.0
PRODID:-//心斎橋ショベル - ECPv6.6.3//NONSGML v1.0//EN
CALSCALE:GREGORIAN
METHOD:PUBLISH
X-ORIGINAL-URL:https://1469st.com
X-WR-CALDESC:心斎橋ショベル のイベント
REFRESH-INTERVAL;VALUE=DURATION:PT1H
X-Robots-Tag:noindex
X-PUBLISHED-TTL:PT1H
BEGIN:VTIMEZONE
TZID:Asia/Tokyo
BEGIN:STANDARD
TZOFFSETFROM:+0900
TZOFFSETTO:+0900
TZNAME:JST
DTSTART:20240101T000000
END:STANDARD
END:VTIMEZONE
BEGIN:VEVENT
DTSTART;TZID=Asia/Tokyo:20240830T080000
DTEND;TZID=Asia/Tokyo:20240830T170000
DTSTAMP:20260422T164121
CREATED:20240713T032842Z
LAST-MODIFIED:20241003T173348Z
UID:529-1725004800-1725037200@1469st.com
SUMMARY:『ひろ。生まれちゃった！』
DESCRIPTION:2024.08.30(金)　心斎橋SHOVEL \n『ひろ。生まれちゃった！』 \nOPEN/START 16:00/16:30\n前売 4\,000- /当日 4500-(w/1D) \n出演\nNiEL\nFree Aqua Butterfly\naoüui mani∴THELEMA∴\n九州亜尓武威同鋼會\nHALO\nBreathkill Dog\n「エレクトリックコール坊や」 \n入場順 \n1.TIGET予約  8/3 12:00〜  https://tiget.net/events/336636 \n2.当日
URL:https://1469st.com/event/%e3%80%8e%e3%81%b2%e3%82%8d%e3%80%82%e7%94%9f%e3%81%be%e3%82%8c%e3%81%a1%e3%82%83%e3%81%a3%e3%81%9f%ef%bc%81%e3%80%8f/
CATEGORIES:event
END:VEVENT
END:VCALENDAR