BEGIN:VCALENDAR
VERSION:2.0
PRODID:-//心斎橋ショベル - ECPv6.6.3//NONSGML v1.0//EN
CALSCALE:GREGORIAN
METHOD:PUBLISH
X-ORIGINAL-URL:https://1469st.com
X-WR-CALDESC:心斎橋ショベル のイベント
REFRESH-INTERVAL;VALUE=DURATION:PT1H
X-Robots-Tag:noindex
X-PUBLISHED-TTL:PT1H
BEGIN:VTIMEZONE
TZID:Asia/Tokyo
BEGIN:STANDARD
TZOFFSETFROM:+0900
TZOFFSETTO:+0900
TZNAME:JST
DTSTART:20240101T000000
END:STANDARD
END:VTIMEZONE
BEGIN:VEVENT
DTSTART;TZID=Asia/Tokyo:20240728T080000
DTEND;TZID=Asia/Tokyo:20240728T170000
DTSTAMP:20260422T191805
CREATED:20240703T062950Z
LAST-MODIFIED:20241003T173653Z
UID:461-1722153600-1722186000@1469st.com
SUMMARY:REMI’s BIRTHDAY 2024 —??? ARE YOU READY ???—
DESCRIPTION:2024年7月28日(日) \n\n\n\n＠大阪 心斎橋SHOVEL \n\n\n\n「REMI’s BIRTHDAY 2024」 \n\n\n\n【act】 ・ixSCREAM CORPSE ・がしゃめたるセッション \n\n\n\n・Astraea ・Magistina Saga ・リバースレインボー \n\n\n\nOPEN 17:30 / START 18:00 \n\n\n\nadv 3500yen / door 4000yen (入場時1Drink ¥600別途) \n\n\n\nチケット予約方法：各アーティスト様取り置き予約
URL:https://1469st.com/event/remis-birthday-2024-are-you-ready/
CATEGORIES:event
END:VEVENT
END:VCALENDAR