BEGIN:VCALENDAR
VERSION:2.0
PRODID:-//心斎橋ショベル - ECPv6.6.3//NONSGML v1.0//EN
CALSCALE:GREGORIAN
METHOD:PUBLISH
X-WR-CALNAME:心斎橋ショベル
X-ORIGINAL-URL:https://1469st.com
X-WR-CALDESC:心斎橋ショベル のイベント
REFRESH-INTERVAL;VALUE=DURATION:PT1H
X-Robots-Tag:noindex
X-PUBLISHED-TTL:PT1H
BEGIN:VTIMEZONE
TZID:Asia/Tokyo
BEGIN:STANDARD
TZOFFSETFROM:+0900
TZOFFSETTO:+0900
TZNAME:JST
DTSTART:20240101T000000
END:STANDARD
END:VTIMEZONE
BEGIN:VEVENT
DTSTART;TZID=Asia/Tokyo:20240720T080000
DTEND;TZID=Asia/Tokyo:20240720T170000
DTSTAMP:20260422T191329
CREATED:20240626T072718Z
LAST-MODIFIED:20241003T173826Z
UID:447-1721462400-1721494800@1469st.com
SUMMARY:ワチャチャライブ　7月大阪定期
DESCRIPTION:日時　2024年7月20日 (土) \n\n\n\n公演名　ワチャチャライブ　7月大阪定期 \n\n\n\n会場　SHINSAIBASHI SHOVEL \n\n\n\n住所　大阪府大阪市中央区西心斎橋2-4-17 \n\n\n\n開場　18:30開演　19:00 \n\n\n\n料金前売　¥3\,000当日　¥3\,500 \n\n\n\n予約開始2024年6月26日　22:00 \n\n\n\n予約URLhttps://t.livepocket.jp/e/7zg-j
URL:https://1469st.com/event/447/
CATEGORIES:event
END:VEVENT
END:VCALENDAR