BEGIN:VCALENDAR
VERSION:2.0
PRODID:-//心斎橋ショベル - ECPv6.6.3//NONSGML v1.0//EN
CALSCALE:GREGORIAN
METHOD:PUBLISH
X-ORIGINAL-URL:https://1469st.com
X-WR-CALDESC:心斎橋ショベル のイベント
REFRESH-INTERVAL;VALUE=DURATION:PT1H
X-Robots-Tag:noindex
X-PUBLISHED-TTL:PT1H
BEGIN:VTIMEZONE
TZID:Asia/Tokyo
BEGIN:STANDARD
TZOFFSETFROM:+0900
TZOFFSETTO:+0900
TZNAME:JST
DTSTART:20240101T000000
END:STANDARD
END:VTIMEZONE
BEGIN:VEVENT
DTSTART;TZID=Asia/Tokyo:20240713T080000
DTEND;TZID=Asia/Tokyo:20240713T170000
DTSTAMP:20260422T191836
CREATED:20240611T090658Z
LAST-MODIFIED:20241003T173853Z
UID:417-1720857600-1720890000@1469st.com
SUMMARY:聖涙 & -KouKi- BIRTHDAY SPECIAL EVENT ｢記憶-Love never Disappears-｣
DESCRIPTION:2024年7月13日(土) 心斎橋SHOVEL \n\n\n\n聖涙 & -KouKi- BIRTHDAY SPECIAL EVENT ｢記憶-Love never Disappears-｣ \n\n\n\nOPEN 17:00 / START 17:30 \n\n\n\n前売 ￥4\,000 / 当日 ￥4\,500 (別途D代) \n\n\n\n出演 Misanthrope Eversick. La’veil MizeriA BLACK GROW BERRY \n\n\n\n【ticket】 A.イープラス(6/15発売) https://eplus.jp/sf/detail/4123360001-P0030001 B.バンド予約 C.当日券
URL:https://1469st.com/event/%e8%81%96%e6%b6%99-kouki-birthday-special-event-%ef%bd%a2%e8%a8%98%e6%86%b6-love-never-disappears-%ef%bd%a3/
CATEGORIES:event
END:VEVENT
END:VCALENDAR