BEGIN:VCALENDAR
VERSION:2.0
PRODID:-//心斎橋ショベル - ECPv6.6.3//NONSGML v1.0//EN
CALSCALE:GREGORIAN
METHOD:PUBLISH
X-ORIGINAL-URL:https://1469st.com
X-WR-CALDESC:心斎橋ショベル のイベント
REFRESH-INTERVAL;VALUE=DURATION:PT1H
X-Robots-Tag:noindex
X-PUBLISHED-TTL:PT1H
BEGIN:VTIMEZONE
TZID:Asia/Tokyo
BEGIN:STANDARD
TZOFFSETFROM:+0900
TZOFFSETTO:+0900
TZNAME:JST
DTSTART:20240101T000000
END:STANDARD
END:VTIMEZONE
BEGIN:VEVENT
DTSTART;TZID=Asia/Tokyo:20240709T080000
DTEND;TZID=Asia/Tokyo:20240709T170000
DTSTAMP:20260424T195527
CREATED:20240626T081131Z
LAST-MODIFIED:20241003T173917Z
UID:453-1720512000-1720544400@1469st.com
SUMMARY:『夏の三大祭り〜東名阪〜巡り』
DESCRIPTION:『夏の三大祭り〜東名阪〜巡り』 \n\n\n\n7/9 心斎橋shovel \n\n\n\nOPEN16:30/START17:00 \n\n\n\nADV Sチケ5\,000円 / DOOR無料 \n\n\n\nact: ホンモノ/ルルノネ / ソラナキ \n\n\n\nhttps://eplus.jp/sf/detail/4099670001-P0030001P021001?P1=1221
URL:https://1469st.com/event/%e3%80%8e%e5%a4%8f%e3%81%ae%e4%b8%89%e5%a4%a7%e7%a5%ad%e3%82%8a%e3%80%9c%e6%9d%b1%e5%90%8d%e9%98%aa%e3%80%9c%e5%b7%a1%e3%82%8a%e3%80%8f/
CATEGORIES:event
END:VEVENT
END:VCALENDAR