BEGIN:VCALENDAR
VERSION:2.0
PRODID:-//心斎橋ショベル - ECPv6.6.3//NONSGML v1.0//EN
CALSCALE:GREGORIAN
METHOD:PUBLISH
X-WR-CALNAME:心斎橋ショベル
X-ORIGINAL-URL:https://1469st.com
X-WR-CALDESC:心斎橋ショベル のイベント
REFRESH-INTERVAL;VALUE=DURATION:PT1H
X-Robots-Tag:noindex
X-PUBLISHED-TTL:PT1H
BEGIN:VTIMEZONE
TZID:Asia/Tokyo
BEGIN:STANDARD
TZOFFSETFROM:+0900
TZOFFSETTO:+0900
TZNAME:JST
DTSTART:20240101T000000
END:STANDARD
END:VTIMEZONE
BEGIN:VEVENT
DTSTART;TZID=Asia/Tokyo:20240707T080000
DTEND;TZID=Asia/Tokyo:20240707T170000
DTSTAMP:20260422T191341
CREATED:20240929T101244Z
LAST-MODIFIED:20241003T173938Z
UID:773-1720339200-1720371600@1469st.com
SUMMARY:賀美座　YOROKOBIライブ
DESCRIPTION:賀美座　YOROKOBIライブ \n昼の部 \nOPEN 12:30 / START13:00 \n夜の部 \nOPEN 16:00 / START16:30
URL:https://1469st.com/event/%e8%b3%80%e7%be%8e%e5%ba%a7%e3%80%80yorokobi%e3%83%a9%e3%82%a4%e3%83%96/
CATEGORIES:event
END:VEVENT
END:VCALENDAR