BEGIN:VCALENDAR
VERSION:2.0
PRODID:-//心斎橋ショベル - ECPv6.6.3//NONSGML v1.0//EN
CALSCALE:GREGORIAN
METHOD:PUBLISH
X-WR-CALNAME:心斎橋ショベル
X-ORIGINAL-URL:https://1469st.com
X-WR-CALDESC:心斎橋ショベル のイベント
REFRESH-INTERVAL;VALUE=DURATION:PT1H
X-Robots-Tag:noindex
X-PUBLISHED-TTL:PT1H
BEGIN:VTIMEZONE
TZID:Asia/Tokyo
BEGIN:STANDARD
TZOFFSETFROM:+0900
TZOFFSETTO:+0900
TZNAME:JST
DTSTART:20240101T000000
END:STANDARD
END:VTIMEZONE
BEGIN:VEVENT
DTSTART;TZID=Asia/Tokyo:20240628T173000
DTEND;TZID=Asia/Tokyo:20240628T220000
DTSTAMP:20260422T205014
CREATED:20240608T102227Z
LAST-MODIFIED:20241003T174052Z
UID:410-1719595800-1719612000@1469st.com
SUMMARY:NANIWA MEMENTO STORY Vol.3
DESCRIPTION:NANIWA MEMENTO STORY Vol.36月28日(金)心斎橋 SHOVEL前売り￥4\,200＋D /当日￥4\,700＋Dopen17:30/start18:00ACTDawnman / yuya  /  RENAME  /  ギロチン  /  NiEL
URL:https://1469st.com/event/naniwa-memento-story-vol-3/
CATEGORIES:event
END:VEVENT
END:VCALENDAR