BEGIN:VCALENDAR
VERSION:2.0
PRODID:-//心斎橋ショベル - ECPv6.6.3//NONSGML v1.0//EN
CALSCALE:GREGORIAN
METHOD:PUBLISH
X-ORIGINAL-URL:https://1469st.com
X-WR-CALDESC:心斎橋ショベル のイベント
REFRESH-INTERVAL;VALUE=DURATION:PT1H
X-Robots-Tag:noindex
X-PUBLISHED-TTL:PT1H
BEGIN:VTIMEZONE
TZID:Asia/Tokyo
BEGIN:STANDARD
TZOFFSETFROM:+0900
TZOFFSETTO:+0900
TZNAME:JST
DTSTART:20240101T000000
END:STANDARD
END:VTIMEZONE
BEGIN:VEVENT
DTSTART;TZID=Asia/Tokyo:20240623T160000
DTEND;TZID=Asia/Tokyo:20240623T210000
DTSTAMP:20260422T203040
CREATED:20240601T111406Z
LAST-MODIFIED:20241003T174118Z
UID:389-1719158400-1719176400@1469st.com
SUMMARY:ホンモノ主催Dr.世界ラスト『966日目』
DESCRIPTION:6/23(sun) 心斎橋SHOVELホンモノ主催Dr.世界ラスト『966日目』 \n\n\n\nOPEN16:00/START16:30　ADV\4\,000-/DOOR\4500-(D代別) \n\n\n\nact:ホンモノ/A113(1日復活)/ex.BlacK TeaR/しえるぐれいゔ/あっとの怜いじめセッション/(O.A)コピバン \n\n\n\nチケット情報A:e+:5/25(土) 10:00～https://eplus.jp/sf/detail/4101890001-P0030001 \n\n\n\nB:バンド予約C:当日
URL:https://1469st.com/event/%e3%83%9b%e3%83%b3%e3%83%a2%e3%83%8e%e4%b8%bb%e5%82%acdr-%e4%b8%96%e7%95%8c%e3%83%a9%e3%82%b9%e3%83%88%e3%80%8e966%e6%97%a5%e7%9b%ae%e3%80%8f/
CATEGORIES:event
END:VEVENT
END:VCALENDAR