BEGIN:VCALENDAR
VERSION:2.0
PRODID:-//心斎橋ショベル - ECPv6.6.3//NONSGML v1.0//EN
CALSCALE:GREGORIAN
METHOD:PUBLISH
X-ORIGINAL-URL:https://1469st.com
X-WR-CALDESC:心斎橋ショベル のイベント
REFRESH-INTERVAL;VALUE=DURATION:PT1H
X-Robots-Tag:noindex
X-PUBLISHED-TTL:PT1H
BEGIN:VTIMEZONE
TZID:Asia/Tokyo
BEGIN:STANDARD
TZOFFSETFROM:+0900
TZOFFSETTO:+0900
TZNAME:JST
DTSTART:20240101T000000
END:STANDARD
END:VTIMEZONE
BEGIN:VEVENT
DTSTART;TZID=Asia/Tokyo:20240609T140000
DTEND;TZID=Asia/Tokyo:20240609T170000
DTSTAMP:20260422T203933
CREATED:20240427T132108Z
LAST-MODIFIED:20241003T170231Z
UID:310-1717941600-1717952400@1469st.com
SUMMARY:SHOW ME.ROCK ME 2024
DESCRIPTION:2024/06/09SHOW ME.ROCK ME 2024 \n\n\n\nOPEN 14:00/START   14:302500円 (1D別)
URL:https://1469st.com/event/show-me-rock-me-2024/
CATEGORIES:event
END:VEVENT
END:VCALENDAR