BEGIN:VCALENDAR
VERSION:2.0
PRODID:-//心斎橋ショベル - ECPv6.6.3//NONSGML v1.0//EN
CALSCALE:GREGORIAN
METHOD:PUBLISH
X-WR-CALNAME:心斎橋ショベル
X-ORIGINAL-URL:https://1469st.com
X-WR-CALDESC:心斎橋ショベル のイベント
REFRESH-INTERVAL;VALUE=DURATION:PT1H
X-Robots-Tag:noindex
X-PUBLISHED-TTL:PT1H
BEGIN:VTIMEZONE
TZID:Asia/Tokyo
BEGIN:STANDARD
TZOFFSETFROM:+0900
TZOFFSETTO:+0900
TZNAME:JST
DTSTART:20240101T000000
END:STANDARD
END:VTIMEZONE
BEGIN:VEVENT
DTSTART;TZID=Asia/Tokyo:20240608T120000
DTEND;TZID=Asia/Tokyo:20240608T170000
DTSTAMP:20260422T202453
CREATED:20240427T131600Z
LAST-MODIFIED:20241003T180313Z
UID:308-1717848000-1717866000@1469st.com
SUMMARY:ゆこフェス Vol.2
DESCRIPTION:ゆこフェス Vol.2 \n\n\n\nOPEN 12:00/START   12:30チケット 2000円1D 600円
URL:https://1469st.com/event/%e3%82%86%e3%81%93%e3%83%95%e3%82%a7%e3%82%b9-vo1-2/
CATEGORIES:event
END:VEVENT
END:VCALENDAR