BEGIN:VCALENDAR
VERSION:2.0
PRODID:-//心斎橋ショベル - ECPv6.6.3//NONSGML v1.0//EN
CALSCALE:GREGORIAN
METHOD:PUBLISH
X-ORIGINAL-URL:https://1469st.com
X-WR-CALDESC:心斎橋ショベル のイベント
REFRESH-INTERVAL;VALUE=DURATION:PT1H
X-Robots-Tag:noindex
X-PUBLISHED-TTL:PT1H
BEGIN:VTIMEZONE
TZID:Asia/Tokyo
BEGIN:STANDARD
TZOFFSETFROM:+0900
TZOFFSETTO:+0900
TZNAME:JST
DTSTART:20240101T000000
END:STANDARD
END:VTIMEZONE
BEGIN:VEVENT
DTSTART;TZID=Asia/Tokyo:20240601T163000
DTEND;TZID=Asia/Tokyo:20240601T210000
DTSTAMP:20260422T202923
CREATED:20240427T131440Z
LAST-MODIFIED:20241003T170503Z
UID:306-1717259400-1717275600@1469st.com
SUMMARY:Concerto Moon BACK BEYOND THEBACK 2024
DESCRIPTION:2024/06/01 \n\n\n\nConcerto Moon BACK BEYOND THEBACK 2024 \n\n\n\nOPEN 17:30/START   18:00前売り5500円当日 6000円(1D代別)
URL:https://1469st.com/event/concerto-moon-back-beyond-theback-2024/
CATEGORIES:event
END:VEVENT
END:VCALENDAR