BEGIN:VCALENDAR
VERSION:2.0
PRODID:-//心斎橋ショベル - ECPv6.6.3//NONSGML v1.0//EN
CALSCALE:GREGORIAN
METHOD:PUBLISH
X-WR-CALNAME:心斎橋ショベル
X-ORIGINAL-URL:https://1469st.com
X-WR-CALDESC:心斎橋ショベル のイベント
REFRESH-INTERVAL;VALUE=DURATION:PT1H
X-Robots-Tag:noindex
X-PUBLISHED-TTL:PT1H
BEGIN:VTIMEZONE
TZID:Asia/Tokyo
BEGIN:STANDARD
TZOFFSETFROM:+0900
TZOFFSETTO:+0900
TZNAME:JST
DTSTART:20240101T000000
END:STANDARD
END:VTIMEZONE
BEGIN:VEVENT
DTSTART;TZID=Asia/Tokyo:20240525T160000
DTEND;TZID=Asia/Tokyo:20240525T200000
DTSTAMP:20260422T220635
CREATED:20240427T131053Z
LAST-MODIFIED:20241003T170616Z
UID:300-1716652800-1716667200@1469st.com
SUMMARY:HARD ROCK REBELLION
DESCRIPTION:Shovelリニューアル!!新店長就任イベント第一弾HARD ROCK REBELLION \n\n\n\n2024/05/25 \n\n\n\nOPEN 16:00/START   16:30チケット 1000円 (入場時1D別途)
URL:https://1469st.com/event/shovel%e3%83%aa%e3%83%8b%e3%83%a5%e3%83%bc%e3%82%a2%e3%83%ab%e6%96%b0%e5%ba%97%e9%95%b7%e5%b0%b1%e4%bb%bb%e3%82%a4%e3%83%99%e3%83%b3%e3%83%88%e7%ac%ac%e4%b8%80%e5%bc%be/
CATEGORIES:event
END:VEVENT
END:VCALENDAR