BEGIN:VCALENDAR
VERSION:2.0
PRODID:-//心斎橋ショベル - ECPv6.6.3//NONSGML v1.0//EN
CALSCALE:GREGORIAN
METHOD:PUBLISH
X-ORIGINAL-URL:https://1469st.com
X-WR-CALDESC:心斎橋ショベル のイベント
REFRESH-INTERVAL;VALUE=DURATION:PT1H
X-Robots-Tag:noindex
X-PUBLISHED-TTL:PT1H
BEGIN:VTIMEZONE
TZID:Asia/Tokyo
BEGIN:STANDARD
TZOFFSETFROM:+0900
TZOFFSETTO:+0900
TZNAME:JST
DTSTART:20260101T000000
END:STANDARD
END:VTIMEZONE
BEGIN:VEVENT
DTSTART;TZID=Asia/Tokyo:20260307T080000
DTEND;TZID=Asia/Tokyo:20260307T170000
DTSTAMP:20260423T235630
CREATED:20260204T015800Z
LAST-MODIFIED:20260204T015800Z
UID:1983-1772870400-1772902800@1469st.com
SUMMARY:TSUNAMI LIVE GYM
DESCRIPTION:
URL:https://1469st.com/event/tsunami-live-gym/
CATEGORIES:event
END:VEVENT
BEGIN:VEVENT
DTSTART;TZID=Asia/Tokyo:20260308T080000
DTEND;TZID=Asia/Tokyo:20260308T160000
DTSTAMP:20260423T235630
CREATED:20260204T020752Z
LAST-MODIFIED:20260225T073713Z
UID:1999-1772956800-1772985600@1469st.com
SUMMARY:日ノ目企画presents "SUNDAYRIGHT"
DESCRIPTION:■2026/3/8(日)[昼]\n@心斎橋SHOVEL\n日ノ目企画presents\n“SUNDAYRIGHT”\n出演 : 感情線は時をこえて / CLANCROWN / スキトオルアオ / YOUR ADVISORY BOARD / YUGUREMI\nOPEN 11:50\nSTART 12:10\nADV 2500YEN(1DRINK代別)\nDOOR 3100YEN(1DRINK代別) \n前売りチケット\nhttps://t-dv.com/hnm0308day\n※イベント前日23:59までの販売
URL:https://1469st.com/event/coming-soon/
CATEGORIES:event
END:VEVENT
BEGIN:VEVENT
DTSTART;TZID=Asia/Tokyo:20260308T160000
DTEND;TZID=Asia/Tokyo:20260308T200000
DTSTAMP:20260423T235630
CREATED:20260225T073819Z
LAST-MODIFIED:20260225T073843Z
UID:2087-1772985600-1773000000@1469st.com
SUMMARY:日ノ目企画presents "SUNDAYRIGHT NIGHT"
DESCRIPTION:■2026/3/8(日)[夜]\n@心斎橋SHOVEL\n日ノ目企画presents\n“SUNDAYRIGHT NIGHT”\n出演 : 幽世脅嚇 / 感情線は時をこえて / さくまる。 / スキトオルアオ / TOKYOてふてふ\nOPEN 16:20\nSTART 16:40\nADV 2500YEN(1DRINK代別)\nDOOR 3100YEN(1DRINK代別) \n前売りチケット\nhttps://t-dv.com/hnm0308night\n※イベント前日23:59までの販売
URL:https://1469st.com/event/%e6%97%a5%e3%83%8e%e7%9b%ae%e4%bc%81%e7%94%bbpresents-sundayright-night/
CATEGORIES:event
END:VEVENT
BEGIN:VEVENT
DTSTART;TZID=Asia/Tokyo:20260309T080000
DTEND;TZID=Asia/Tokyo:20260309T170000
DTSTAMP:20260423T235630
CREATED:20260211T044449Z
LAST-MODIFIED:20260211T044449Z
UID:2043-1773043200-1773075600@1469st.com
SUMMARY:七瀬まみ生誕祭〜まみちゃんのお誕生日会〜
DESCRIPTION:2026/03/09(月)\n『七瀬まみ生誕祭〜まみちゃんのお誕生日会〜』\n会場：心斎橋SHOVEL\n時間：開場19:00/開演19:30\n料金：¥1500(+1D)\n出演者：ハピネスクラッカー！\nhttps://tiget.net/events/466365
URL:https://1469st.com/event/%e4%b8%83%e7%80%ac%e3%81%be%e3%81%bf%e7%94%9f%e8%aa%95%e7%a5%ad%e3%80%9c%e3%81%be%e3%81%bf%e3%81%a1%e3%82%83%e3%82%93%e3%81%ae%e3%81%8a%e8%aa%95%e7%94%9f%e6%97%a5%e4%bc%9a%e3%80%9c/
CATEGORIES:event
END:VEVENT
BEGIN:VEVENT
DTSTART;TZID=Asia/Tokyo:20260314T080000
DTEND;TZID=Asia/Tokyo:20260314T170000
DTSTAMP:20260423T235630
CREATED:20260204T015924Z
LAST-MODIFIED:20260204T015924Z
UID:1986-1773475200-1773507600@1469st.com
SUMMARY:Back to the Beginning in Osaka
DESCRIPTION:
URL:https://1469st.com/event/back-to-the-beginning-in-osaka/
CATEGORIES:event
END:VEVENT
BEGIN:VEVENT
DTSTART;TZID=Asia/Tokyo:20260318T080000
DTEND;TZID=Asia/Tokyo:20260318T170000
DTSTAMP:20260423T235630
CREATED:20260312T132055Z
LAST-MODIFIED:20260312T132055Z
UID:2118-1773820800-1773853200@1469st.com
SUMMARY:アクアハーツvol.2
DESCRIPTION:日付：3月18日（水）\n表題：アクアハーツvol.2\n場所：心斎橋SHOVEL\n時間：OPEN 19:00 / START 19:15\n価格：前売 ¥1\,500 当日¥2\,000（＋1D）\n出演者：アクアリウム。/ ゼロキョリハーツ / caprice（ゲスト） \n予約：https://t-dv.com/aSIVxFsg9cZ9oWndjXyA \n▽タイムテーブル\n19:00　OPEN\n19:15-19:35　caprice\n19:35-20:00　アクアリウム。\n20:00-20:25　ゼロキョリハーツ\n20:30-21:30　終演後特典会 \n【注意事項とご協力のお願い】\n※入場順：前売→当日\n※当日券は＋¥500\n※再入場可\n※サーフ、モッシュ、ダイブはNG\n※天井機材は触らない触れないでください。\n※液体系UO類はNGとさせて頂きます\n※動画静止画等のレギュレーションは各演者様にはご確認ください。\n※共演者は各レギュレーション通り\n※サークル、横移動なども特に制限は設けておりませんが他のお客様の迷惑やクレームにならない常識範囲内で楽しんでもらえたら幸いです。そのような行為によりケガ・事故等発生した場合は当事者同士で協議を頂き、主催者は関与致しかねます。\n※スタッフの注意や警告をお聞き頂けない場合、ご退場をお願いすることがございます。その際のチケット代の返金等は出来兼ねますので、ご理解ご了承の程、宜しくお願い致します。\n※出演者の出演＆特典会時間はメンバーの体調不良やスケジュールの都合等の理由により、変更になる可能性がありますので予めご了承下さい。その際の返金などは一切応じられませんので予めご了承ください。\n※イベントなど開始時間、終了時間が変更になる可能性もございますので、予めご了承ください。\n※出待ち、入り待ち等、近隣の方の迷惑になる行為はお辞め下さい。
URL:https://1469st.com/event/%e3%82%a2%e3%82%af%e3%82%a2%e3%83%8f%e3%83%bc%e3%83%84vol-2/
CATEGORIES:event
END:VEVENT
BEGIN:VEVENT
DTSTART;TZID=Asia/Tokyo:20260321T080000
DTEND;TZID=Asia/Tokyo:20260321T170000
DTSTAMP:20260423T235630
CREATED:20251206T113926Z
LAST-MODIFIED:20260309T120753Z
UID:1863-1774080000-1774112400@1469st.com
SUMMARY:Rock of Ages vol.10  10Times Celebration
DESCRIPTION:2026/03/21(SAT) \nRock of Ages vol.10 \n10Times Celebration \nopen 16:30　start 17:00 \n前売 2\,500円　当日 3\,000円  (別途1ドリンク 600円)
URL:https://1469st.com/event/rock-of-ages-vol-10-10times-celebration/
CATEGORIES:event
END:VEVENT
BEGIN:VEVENT
DTSTART;TZID=Asia/Tokyo:20260322T133000
DTEND;TZID=Asia/Tokyo:20260322T160000
DTSTAMP:20260423T235630
CREATED:20260211T045318Z
LAST-MODIFIED:20260226T130518Z
UID:2046-1774186200-1774195200@1469st.com
SUMMARY:『POP! POP!! POP!!! in Osaka』
DESCRIPTION:『POP! POP!! POP!!! in Osaka』 \n日程: 2026年 3月 22日 (日)\n会場: 心斎橋 SHOVEL\n料金: 前方優先 ¥2\,000- / 通常一般 ¥500- / 当日各 +¥500- / 1D代別\n時間: 開場 13:30 / 開演 13:50\n出演: Panic Monster !n Wonderland / 魔訶不思議変革者-デスデス- / みらくらんど / あおぞらをキミに\n予約: https://livepocket.jp/e/pmiw-ppp-osaka \n13:50-14:10 みらくらんど\n14:10-14:30 魔訶不思議変革者-デスデス-\n14:30-14:50 あおぞらをキミに\n14:50-15:10 Panic Monster !n Wonderland\n15:10-16:10 特典会
URL:https://1469st.com/event/%e9%ad%94%e8%a8%b6%e4%b8%8d%e6%80%9d%e8%ad%b0%e3%81%82%e3%81%a9%e3%81%b9%e3%82%93%e3%81%a1%e3%82%83%e3%81%823/
CATEGORIES:event
END:VEVENT
BEGIN:VEVENT
DTSTART;TZID=Asia/Tokyo:20260322T163000
DTEND;TZID=Asia/Tokyo:20260322T190000
DTSTAMP:20260423T235630
CREATED:20260307T051448Z
LAST-MODIFIED:20260307T051448Z
UID:2107-1774197000-1774206000@1469st.com
SUMMARY:魔訶不思議あどべんちゃあ3
DESCRIPTION:魔訶不思議あどべんちゃあ3 \n2026/03/22[日] \n■会場：心斎橋SHOVEL \n■時間：OPEN/START 16:30/17:00 \n■値段：前方優先¥2\,500/通常一般¥500 [各1D別]当日＋¥500 \nhttps://livepocket.jp/e/dc1zl \n・前方特典デスカ2枚 \n・全通特典「NEET衣装集合トレカ」 \n・新規お客様特典「ロマンティックあげるよ」 \n新規の方&新規の方を連れてきたお客様にはメンバーの自己紹介カードプレゼント（サイントーク付） \n■LIVE：17:00-17:40 \n■特典会：17:40-19:00
URL:https://1469st.com/event/%e9%ad%94%e8%a8%b6%e4%b8%8d%e6%80%9d%e8%ad%b0%e3%81%82%e3%81%a9%e3%81%b9%e3%82%93%e3%81%a1%e3%82%83%e3%81%823-2/
CATEGORIES:event
END:VEVENT
BEGIN:VEVENT
DTSTART;TZID=Asia/Tokyo:20260322T193000
DTEND;TZID=Asia/Tokyo:20260322T220000
DTSTAMP:20260423T235630
CREATED:20260123T122658Z
LAST-MODIFIED:20260307T051540Z
UID:1964-1774207800-1774216800@1469st.com
SUMMARY:Panic Monster !n Wonderland『-ガオガオガオ- ツアー -大阪-』
DESCRIPTION:Panic Monster !n Wonderland『-ガオガオガオ- ツアー -大阪-』 \n日程: 2026年 3月 22日 (日)\n会場: 心斎橋 SHOVEL\n料金: 前方優先 ¥5\,000- / 通常一般 ¥2\,000- / 当日各 +¥500- / D代別\n時間: 開場 19:30 / 開演 20:00\n出演: Panic Monster !n Wonderland \n前方優先チケット特典: パニモン動物キャラ絵のランダムステッカー3枚\n物販購入特典: ¥5\,000-以上のお会計で「動物コスプレブロマイド(メンバー各1種)」ランダム1枚 \n予約: https://livepocket.jp/e/pmiw-gaogao_0322
URL:https://1469st.com/event/panic-monster-n-wonderland%e3%80%8e-%e3%82%ac%e3%82%aa%e3%82%ac%e3%82%aa%e3%82%ac%e3%82%aa-%e3%83%84%e3%82%a2%e3%83%bc-%e5%a4%a7%e9%98%aa-%e3%80%8f/
CATEGORIES:event
END:VEVENT
BEGIN:VEVENT
DTSTART;TZID=Asia/Tokyo:20260325T170000
DTEND;TZID=Asia/Tokyo:20260325T193000
DTSTAMP:20260423T235630
CREATED:20260312T130926Z
LAST-MODIFIED:20260317T025145Z
UID:2113-1774458000-1774467000@1469st.com
SUMMARY:アクアリウム。pre.-狂音乱舞-
DESCRIPTION:日付：3月25日（水）\n表題：アクアリウム。pre.-狂音乱舞-\n場所：心斎橋SHOVEL\n時間：OPEN 17:10 / START 17:25\n価格：優先¥1\,000 一般¥500 当日 各種＋¥500（＋1D）\n出演者：アクアリウム。/ RINARIA / AsteRythm \n予約：https://t-dv.com/9nguJ906eIZy45d77ICG \n▽タイムテーブル▽\n17:10　OPEN\n17:25-17:45　RINARIA\n17:45-18:05　AsteRythm\n18:05-18:25　アクアリウム。\n18:25-18:30　調整\n18:30-19:30　終演後特典会 \n【注意事項とご協力のお願い】\n※入場順：優先→一般→当日\n※当日券は＋¥500\n※再入場可\n※サーフ、モッシュ、ダイブはNG\n※天井機材は触らない触れないでください。\n※液体系UO類はNGとさせて頂きます\n※動画静止画等のレギュレーションは各演者様にはご確認ください。\n※共演者は各レギュレーション通り\n※サークル、横移動なども特に制限は設けておりませんが他のお客様の迷惑やクレームにならない常識範囲内で楽しんでもらえたら幸いです。そのような行為によりケガ・事故等発生した場合は当事者同士で協議を頂き、主催者は関与致しかねます。\n※スタッフの注意や警告をお聞き頂けない場合、ご退場をお願いすることがございます。その際のチケット代の返金等は出来兼ねますので、ご理解ご了承の程、宜しくお願い致します。\n※出演者の出演＆特典会時間はメンバーの体調不良やスケジュールの都合等の理由により、変更になる可能性がありますので予めご了承下さい。その際の返金などは一切応じられませんので予めご了承ください。\n※イベントなど開始時間、終了時間が変更になる可能性もございますので、予めご了承ください。\n※出待ち、入り待ち等、近隣の方の迷惑になる行為はお辞め下さい。
URL:https://1469st.com/event/%e3%82%a2%e3%82%af%e3%82%a2%e3%83%aa%e3%82%a6%e3%83%a0%e3%80%82pre-%e7%8b%82%e9%9f%b3%e4%b9%b1%e8%88%9e/
CATEGORIES:event
END:VEVENT
BEGIN:VEVENT
DTSTART;TZID=Asia/Tokyo:20260325T200000
DTEND;TZID=Asia/Tokyo:20260325T220000
DTSTAMP:20260423T235630
CREATED:20260317T091049Z
LAST-MODIFIED:20260317T030013Z
UID:2129-1774468800-1774476000@1469st.com
SUMMARY:あくあらんどっ！
DESCRIPTION:日付：3月25日（水）\n表題：あくあらんどっ！\n場所：心斎橋SHOVEL\n時間：OPEN 19:45 / START 20:00\n価格：優先¥2\,000 一般¥1\,000 女性¥500 当日 各種＋¥500（＋1D）\n出演者：アクアリウム。/ みらくらんど\n※衣装交換LIVEとなります。 \n予約：https://t-dv.com/GEyDdrhJgdhnFwPcQq4V\n※3月17日22:00〜 \n▽タイムテーブル▽\n19:45　OPEN\n20:00-20:25　みらくらんど\n20:25-20:50　アクアリウム。\n20:50-21:00　調整\n21:00-22:00　終演後特典会 \n【注意事項とご協力のお願い】\n※入場順：優先→女性→一般→当日\n※当日券は＋¥500\n※再入場可
URL:https://1469st.com/event/%e3%81%82%e3%81%8f%e3%81%82%e3%82%89%e3%82%93%e3%81%a9%e3%81%a3%ef%bc%81/
CATEGORIES:event
END:VEVENT
BEGIN:VEVENT
DTSTART;TZID=Asia/Tokyo:20260330T080000
DTEND;TZID=Asia/Tokyo:20260330T170000
DTSTAMP:20260423T235630
CREATED:20260204T021444Z
LAST-MODIFIED:20260219T133943Z
UID:2003-1774857600-1774890000@1469st.com
SUMMARY:ホンモノ魔訶脱退・第一章終了主催 『段落に◯を打って』
DESCRIPTION:3/30 心斎橋SHOVEL\nホンモノ魔訶脱退・第一章終了主催\n『段落に◯を打って』 \nOpen 17:00/Start 17:30\nADV \4000/DOOR\4500(D別） \nAct:\nホンモノ/ 妖-Ayakashi- / 透明少女 / DLESS / LESSFEAR \n🎫情報\n3/1(日)12:00～　https://tiget.net/events/468503
URL:https://1469st.com/event/%e3%83%9b%e3%83%b3%e3%83%a2%e3%83%8e%e9%ad%94%e8%a8%b6%e8%84%b1%e9%80%80%e3%83%bb%e7%ac%ac%e4%b8%80%e7%ab%a0%e7%b5%82%e4%ba%86%e4%b8%bb%e5%82%ac-%e3%80%8e%e6%ae%b5%e8%90%bd%e3%81%ab%e2%97%af%e3%82%92/
END:VEVENT
END:VCALENDAR