BEGIN:VCALENDAR
VERSION:2.0
PRODID:-//心斎橋ショベル - ECPv6.6.3//NONSGML v1.0//EN
CALSCALE:GREGORIAN
METHOD:PUBLISH
X-WR-CALNAME:心斎橋ショベル
X-ORIGINAL-URL:https://1469st.com
X-WR-CALDESC:心斎橋ショベル のイベント
REFRESH-INTERVAL;VALUE=DURATION:PT1H
X-Robots-Tag:noindex
X-PUBLISHED-TTL:PT1H
BEGIN:VTIMEZONE
TZID:Asia/Tokyo
BEGIN:STANDARD
TZOFFSETFROM:+0900
TZOFFSETTO:+0900
TZNAME:JST
DTSTART:20260101T000000
END:STANDARD
END:VTIMEZONE
BEGIN:VEVENT
DTSTART;TZID=Asia/Tokyo:20260207T130000
DTEND;TZID=Asia/Tokyo:20260207T160000
DTSTAMP:20260424T011245
CREATED:20260204T020154Z
LAST-MODIFIED:20260204T020154Z
UID:1989-1770469200-1770480000@1469st.com
SUMMARY:推せ推せムーブメント！ In Osaka
DESCRIPTION:日時　　2月7日(土）\n題目　　推せ推せムーブメント！ In Osaka\n会場　　心斎橋SHOVEL\n住所　　〒542-0086 大阪府大阪市中央区西心斎橋２丁目４−１７\n時間　 開場　13:00 / 開演 13:30\n料金　 前売　2000円＋1D / 当日 2500円＋1D \n出演　　にっぽんワチャチャ / 妖狐繚乱 / SANUGLOW / lullllul \n予約URL\nhttps://t-dv.com/xMPbU7ldKG6GTAwqZ7g7
URL:https://1469st.com/event/%e6%8e%a8%e3%81%9b%e6%8e%a8%e3%81%9b%e3%83%a0%e3%83%bc%e3%83%96%e3%83%a1%e3%83%b3%e3%83%88%ef%bc%81-in-osaka/
CATEGORIES:event
END:VEVENT
BEGIN:VEVENT
DTSTART;TZID=Asia/Tokyo:20260207T180000
DTEND;TZID=Asia/Tokyo:20260207T210000
DTSTAMP:20260424T011245
CREATED:20260204T020427Z
LAST-MODIFIED:20260204T020427Z
UID:1994-1770487200-1770498000@1469st.com
SUMMARY:ワチャチャライブ　2月大阪定期
DESCRIPTION:日時　　2月7日(土）\n題目　　ワチャチャライブ　2月大阪定期\n会場　　心斎橋SHOVEL\n住所　　〒542-0086 大阪府大阪市中央区西心斎橋２丁目４−１７\n時間　 開場　18:30 / 開演 19:00\n料金　 前売　3000円＋1D / 当日　3500円＋1D \n出演　　にっぽんワチャチャ \n予約URL\nhttps://t-dv.com/UJjcld8kmOGlWLazMdcI
URL:https://1469st.com/event/%e3%83%af%e3%83%81%e3%83%a3%e3%83%81%e3%83%a3%e3%83%a9%e3%82%a4%e3%83%96%e3%80%802%e6%9c%88%e5%a4%a7%e9%98%aa%e5%ae%9a%e6%9c%9f/
CATEGORIES:event
END:VEVENT
BEGIN:VEVENT
DTSTART;TZID=Asia/Tokyo:20260208T080000
DTEND;TZID=Asia/Tokyo:20260208T170000
DTSTAMP:20260424T011245
CREATED:20260105T063310Z
LAST-MODIFIED:20260207T121650Z
UID:1922-1770537600-1770570000@1469st.com
SUMMARY:【対牀風雪 vol.4】
DESCRIPTION:2026.02.08(日)　心斎橋SHOVEL \n【対牀風雪 vol.4】 \nOPEN/START 16:30/17:00\n前売 4\,000- /当日 4500-(w/1D) \nホンモノ\nBlacK TeaR\nRE:lNa\nLESSFEAR \n1.Tiget　https://tiget.net/events/462003\n2.各バンド予約
URL:https://1469st.com/event/%e3%80%90%e5%af%be%e7%89%80%e9%a2%a8%e9%9b%aa-vol-4%e3%80%91/
CATEGORIES:event
END:VEVENT
BEGIN:VEVENT
DTSTART;TZID=Asia/Tokyo:20260209T080000
DTEND;TZID=Asia/Tokyo:20260209T170000
DTSTAMP:20260424T011245
CREATED:20260206T091028Z
LAST-MODIFIED:20260205T142207Z
UID:2015-1770624000-1770656400@1469st.com
SUMMARY:アクアハーツvol.1
DESCRIPTION:日付：2月9日（月）\n表題：アクアハーツvol.1\n場所：心斎橋SHOVEL\n時間：OPEN 19:15 / START 19:30\n価格：優先¥2\,000 一般¥1\,000 当日 各種＋¥500（＋1D）\n出演者：アクアリウム。/ ゼロキョリハーツ\n※衣装交換ライブとなります。 \n予約：https://t-dv.com/vbylbQL3CfV6sQXQU4m4\n※2月6日22:00〜 \n▽タイムテーブル▽\n19:15　OPEN\n19:30-19:55　ゼロキョリハーツ\n19:55-20:20　アクアリウム。\n20:30-21:30　終演後特典会 \n【注意事項とご協力のお願い】\n※入場順：優先→一般→当日\n※当日券は＋¥500\n※再入場可\n※サーフ、モッシュ、ダイブはNG\n※天井機材は触らない触れないでください。\n※液体系UO類はNGとさせて頂きます\n※動画静止画等のレギュレーションは各演者様にはご確認ください。\n※共演者は各レギュレーション通り\n※サークル、横移動なども特に制限は設けておりませんが他のお客様の迷惑やクレームにならない常識範囲内で楽しんでもらえたら幸いです。そのような行為によりケガ・事故等発生した場合は当事者同士で協議を頂き、主催者は関与致しかねます。\n※スタッフの注意や警告をお聞き頂けない場合、ご退場をお願いすることがございます。その際のチケット代の返金等は出来兼ねますので、ご理解ご了承の程、宜しくお願い致します。\n※出演者の出演＆特典会時間はメンバーの体調不良やスケジュールの都合等の理由により、変更になる可能性がありますので予めご了承下さい。その際の返金などは一切応じられませんので予めご了承ください。\n※イベントなど開始時間、終了時間が変更になる可能性もございますので、予めご了承ください。\n※出待ち、入り待ち等、近隣の方の迷惑になる行為はお辞め下さい。
URL:https://1469st.com/event/%e3%82%a2%e3%82%af%e3%82%a2%e3%83%8f%e3%83%bc%e3%83%84vol-1/
CATEGORIES:event
END:VEVENT
BEGIN:VEVENT
DTSTART;TZID=Asia/Tokyo:20260214T080000
DTEND;TZID=Asia/Tokyo:20260214T170000
DTSTAMP:20260424T011245
CREATED:20260207T121057Z
LAST-MODIFIED:20260213T005655Z
UID:2024-1771056000-1771088400@1469st.com
SUMMARY:日ノ目企画presents “Fill In Your Valentine”
DESCRIPTION:2026/2/14(土)\n@心斎橋SHOVEL\n日ノ目企画presents\n“Fill In Your Valentine”\n出演 : i Moon / EVERYTHING IS WONDER / ELLIC / CLANCROWN / Voyage \nOPEN 10:50\nSTART 11:10\nADV ¥2000(1DRINK代別途)\nDOOR ¥2600Y(1DRINK代別途) \n前売りチケット 2/7(土)22:00〜\nhttps://t-dv.com/hnm0214vt\n※前売り販売終了 イベント前日23:59まで
URL:https://1469st.com/event/%e6%97%a5%e3%83%8e%e7%9b%ae%e4%bc%81%e7%94%bbpresents-fill-in-your-valentine/
CATEGORIES:event
END:VEVENT
BEGIN:VEVENT
DTSTART;TZID=Asia/Tokyo:20260215T080000
DTEND;TZID=Asia/Tokyo:20260215T170000
DTSTAMP:20260424T011245
CREATED:20251115T065024Z
LAST-MODIFIED:20251115T065024Z
UID:1756-1771142400-1771174800@1469st.com
SUMMARY:Hare-Nochikumori×微笑end's 企画【わらくも】
DESCRIPTION:2026.02.15(日)\nSHINSAIBASHI SHOVEL\nHare-Nochikumori×微笑end’s 企画\n【わらくも】\nチケット ¥2300＋1ドリンク \n \n 
URL:https://1469st.com/event/hare-nochikumorix%e5%be%ae%e7%ac%91ends-%e4%bc%81%e7%94%bb%e3%80%90%e3%82%8f%e3%82%89%e3%81%8f%e3%82%82%e3%80%91/
CATEGORIES:event
END:VEVENT
BEGIN:VEVENT
DTSTART;TZID=Asia/Tokyo:20260221T080000
DTEND;TZID=Asia/Tokyo:20260221T170000
DTSTAMP:20260424T011245
CREATED:20251215T181240Z
LAST-MODIFIED:20251215T181240Z
UID:1892-1771660800-1771693200@1469st.com
SUMMARY:Rorschach.inc × ACME 共同主催・東名阪 tour "絶頂地底人"
DESCRIPTION:2026.02.21(Sat) 心斎橋SHOVEL\nRorschach.inc × ACME 共同主催・東名阪 tour “絶頂地底人”\n[ACT] Rorschach.inc / ACME\n[OPEN / START] 17:00 / 17:30\n[ADV / DAY] ¥4\,500-/¥5\,000-【D代別】\n[チケット]\n＊A：BASE先着販売\n(販売期間）2025年11月15日(土)21:00～11月29日(日)23:59\n(WEBチケット送付予定)12月1日(月)\n＊B：LivePocket先着販売\n(販売期間）2025年12月1日10:00～2026年2月20日23:59\n受付URL\nhttps://t.livepocket.jp/e/qr_1w\n[その他]\n① コラボ演奏有り\n② 大セッション有り\n③ 絶頂地底人限定コラボグッズ販売有り \n問い合わせ：ACME OFFICIAL SITE\nsuqream-tokyo@sukomusic.co.jp
URL:https://1469st.com/event/rorschach-inc-x-acme-%e5%85%b1%e5%90%8c%e4%b8%bb%e5%82%ac%e3%83%bb%e6%9d%b1%e5%90%8d%e9%98%aa-tour-%e7%b5%b6%e9%a0%82%e5%9c%b0%e5%ba%95%e4%ba%ba/
CATEGORIES:event
END:VEVENT
BEGIN:VEVENT
DTSTART;TZID=Asia/Tokyo:20260222T080000
DTEND;TZID=Asia/Tokyo:20260222T170000
DTSTAMP:20260424T011245
CREATED:20260118T035515Z
LAST-MODIFIED:20260207T054548Z
UID:1957-1771747200-1771779600@1469st.com
SUMMARY:『バンドうちあげやろうぜ』we like music & beer
DESCRIPTION:2026年2月22日(日)\n『バンドうちあげやろうぜ』we like music & beer\nOpen 16:30 / Start 17:00\nadv:¥3\,000(ドリンク代別)\ndoor:3\,500(ドリンク代別) \n【出演】 \nCARVE JAPAN\n粟津能光 (Yoshimitsu4432/DY3-thx12-4432)\nMackie MADz\nVALLEY\nSAMSPE
URL:https://1469st.com/event/%e3%80%8e%e3%83%90%e3%83%b3%e3%83%89%e3%81%86%e3%81%a1%e3%81%82%e3%81%92%e3%82%84%e3%82%8d%e3%81%86%e3%81%9c%e3%80%8f/
CATEGORIES:event
END:VEVENT
BEGIN:VEVENT
DTSTART;TZID=Asia/Tokyo:20260225T080000
DTEND;TZID=Asia/Tokyo:20260225T170000
DTSTAMP:20260424T011245
CREATED:20260113T075348Z
LAST-MODIFIED:20260219T131811Z
UID:1940-1772006400-1772038800@1469st.com
SUMMARY:アクアリウム。pre.-幽燈輪廻-
DESCRIPTION:【ライブ情報】\n🗓️2月25日（水）\nアクアリウム。pre.-幽燈輪廻-\n📍心斎橋SHOVEL\n⏰OPEN 19:00 / START 19:20\n🎟️優先¥1\,500 一般¥1\,000 当日 各種＋¥500（＋1D）\n出演者：アクアリウム。/ MeluCharm / ハピネスクラッカー！/リボンのないぷれぜんと \n🎤20:20-20:45 \n📸20:50-21:50（終演後） \n🎫t-dv.com/girSVaO5b3HWyC…\n※2月14日22:00〜 \n🐳指名入場&物販購入特典\n→10秒動画件（チェキ件併用） \n【注意事項とご協力のお願い】\n※入場順：優先→一般→当日\n※当日券は＋¥500\n※再入場可\n※サーフ、モッシュ、ダイブはNG\n※天井機材は触らない触れないでください。\n※液体系UO類はNGとさせて頂きます\n※動画静止画等のレギュレーションは各演者様にはご確認ください。\n※共演者は各レギュレーション通り\n※サークル、横移動なども特に制限は設けておりませんが他のお客様の迷惑やクレームにならない常識範囲内で楽しんでもらえたら幸いです。そのような行為によりケガ・事故等発生した場合は当事者同士で協議を頂き、主催者は関与致しかねます。\n※スタッフの注意や警告をお聞き頂けない場合、ご退場をお願いすることがございます。その際のチケット代の返金等は出来兼ねますので、ご理解ご了承の程、宜しくお願い致します。\n※出演者の出演＆特典会時間はメンバーの体調不良やスケジュールの都合等の理由により、変更になる可能性がありますので予めご了承下さい。その際の返金などは一切応じられませんので予めご了承ください。\n※イベントなど開始時間、終了時間が変更になる可能性もございますので、予めご了承ください。\n※出待ち、入り待ち等、近隣の方の迷惑になる行為はお辞め下さい。
URL:https://1469st.com/event/%e3%82%a2%e3%82%af%e3%82%a2%e3%83%aa%e3%82%a6%e3%83%a0%e3%80%82pre-%e5%b9%bd%e7%87%88%e8%bc%aa%e5%bb%bb/
CATEGORIES:event
END:VEVENT
BEGIN:VEVENT
DTSTART;TZID=Asia/Tokyo:20260228T080000
DTEND;TZID=Asia/Tokyo:20260228T170000
DTSTAMP:20260424T011245
CREATED:20260219T132353Z
LAST-MODIFIED:20260219T132353Z
UID:2069-1772265600-1772298000@1469st.com
SUMMARY:ハピネスクラッカー！東名阪ワンマンツアー〜この素晴らしい世界で〜
DESCRIPTION:2026/02/28(土)\n『ハピネスクラッカー！東名阪ワンマンツアー<大阪編>〜この素晴らしい世界で〜』\n会場：心斎橋SHOVEL\n時間：開場15:20/開演15:50\n料金：¥1000(+1D)\n出演者：ハピネスクラッカー！ \n15:20 開場\n15:50-16:30 ライブ\n-物販準備10分-\n16:40-17:50 終演後物販
URL:https://1469st.com/event/%e3%83%8f%e3%83%94%e3%83%8d%e3%82%b9%e3%82%af%e3%83%a9%e3%83%83%e3%82%ab%e3%83%bc%ef%bc%81%e6%9d%b1%e5%90%8d%e9%98%aa%e3%83%af%e3%83%b3%e3%83%9e%e3%83%b3%e3%83%84%e3%82%a2%e3%83%bc%e3%80%9c%e3%81%93/
CATEGORIES:event
END:VEVENT
END:VCALENDAR