BEGIN:VCALENDAR
VERSION:2.0
PRODID:-//心斎橋ショベル - ECPv6.6.3//NONSGML v1.0//EN
CALSCALE:GREGORIAN
METHOD:PUBLISH
X-ORIGINAL-URL:https://1469st.com
X-WR-CALDESC:心斎橋ショベル のイベント
REFRESH-INTERVAL;VALUE=DURATION:PT1H
X-Robots-Tag:noindex
X-PUBLISHED-TTL:PT1H
BEGIN:VTIMEZONE
TZID:Asia/Tokyo
BEGIN:STANDARD
TZOFFSETFROM:+0900
TZOFFSETTO:+0900
TZNAME:JST
DTSTART:20250101T000000
END:STANDARD
END:VTIMEZONE
BEGIN:VEVENT
DTSTART;TZID=Asia/Tokyo:20251102T130000
DTEND;TZID=Asia/Tokyo:20251102T170000
DTSTAMP:20260422T122915
CREATED:20251026T040156Z
LAST-MODIFIED:20251102T015258Z
UID:1747-1762088400-1762102800@1469st.com
SUMMARY:EXCITING SHOVEL
DESCRIPTION:『EXCITING SHOVEL』 \n日程: 2025年 11月 2日 (日)\n会場: 心斎橋 SHOVEL\n時間: OPEN 12:35 / START 12:50\n料金: 前方優先 ¥3\,500 / 通常一般 ¥1\,500 / 当日各 +¥500 / (D代別)\n出演: Panic Monster !n Wonderland / ArmaElla / 魔訶不思議変革者-デスデス- / LΩPARA / LOVExxBAD / UNBS\n予約: https://t.livepocket.jp/e/exciting_shovel-1102
URL:https://1469st.com/event/exciting-shovel/
CATEGORIES:event
END:VEVENT
BEGIN:VEVENT
DTSTART;TZID=Asia/Tokyo:20251102T173000
DTEND;TZID=Asia/Tokyo:20251102T193000
DTSTAMP:20260422T122915
CREATED:20251028T011800Z
LAST-MODIFIED:20251028T011800Z
UID:1767-1762104600-1762111800@1469st.com
SUMMARY:Panic Monster !n Wonderland『Zeppのチケット買っちゃいなツアー -大阪-』
DESCRIPTION:Panic Monster !n Wonderland『Zeppのチケット買っちゃいなツアー -大阪-』 \n日程: 2025年 11月 2日 (日) \n会場: 心斎橋 SHOVEL \n時間: OPEN 17:30 / START 18:00 \n料金: 前方優先: ¥2\,500 / 通常一般: ¥500 (各D代別) \n(11/17 ZEPP Shinjuku公演のSS\, S\, Aチケットをご購入の方に写メ券1枚プレゼント) \n出演: Panic Monster !n Wonderland \n予約: https://t.livepocket.jp/e/pmiw-zepp_1102
URL:https://1469st.com/event/panic-monster-n-wonderland%e3%80%8ezepp%e3%81%ae%e3%83%81%e3%82%b1%e3%83%83%e3%83%88%e8%b2%b7%e3%81%a3%e3%81%a1%e3%82%83%e3%81%84%e3%81%aa%e3%83%84%e3%82%a2%e3%83%bc-%e5%a4%a7%e9%98%aa-%e3%80%8f/
CATEGORIES:event
END:VEVENT
BEGIN:VEVENT
DTSTART;TZID=Asia/Tokyo:20251102T200000
DTEND;TZID=Asia/Tokyo:20251102T213000
DTSTAMP:20260422T122915
CREATED:20251028T011931Z
LAST-MODIFIED:20251028T011931Z
UID:1770-1762113600-1762119000@1469st.com
SUMMARY:魔訶不思議変革者-デスデス-『魔訶不思議あどべんちゃあ2 -大阪-』
DESCRIPTION:魔訶不思議変革者-デスデス-『魔訶不思議あどべんちゃあ2 -大阪-』 \n日程: 2025年 11月 2日 (日) \n会場: 心斎橋 SHOVEL \n時間: OPEN 20:00 / START 20:30 \n料金: 前方優先: ¥2\,500 / 通常一般: ¥500 (各D代別) \n(新規の方・新規の方を連れてきたお客様には写メ券1枚プレゼント) \n出演: 魔訶不思議変革者-デスデス- \n予約: https://t.livepocket.jp/e/adventure2-1102
URL:https://1469st.com/event/%e9%ad%94%e8%a8%b6%e4%b8%8d%e6%80%9d%e8%ad%b0%e5%a4%89%e9%9d%a9%e8%80%85-%e3%83%87%e3%82%b9%e3%83%87%e3%82%b9-%e3%80%8e%e9%ad%94%e8%a8%b6%e4%b8%8d%e6%80%9d%e8%ad%b0%e3%81%82%e3%81%a9%e3%81%b9%e3%82%93/
CATEGORIES:event
END:VEVENT
BEGIN:VEVENT
DTSTART;TZID=Asia/Tokyo:20251105T080000
DTEND;TZID=Asia/Tokyo:20251105T170000
DTSTAMP:20260422T122915
CREATED:20251014T090056Z
LAST-MODIFIED:20251013T095924Z
UID:1716-1762329600-1762362000@1469st.com
SUMMARY:『水姫ひなの』mini生誕祭
DESCRIPTION:日時：2025年11月5日（水）\n公演名：『水姫ひなの』mini生誕祭\n場所：心斎橋ショベル\n時間：OPEN 18:40/START 19:00\n価格：\n①優先エリア：1\,500円 \n②一般エリア：1\,000円 \n入場：①→②チケット番号順\n※別途ドリンク代がかかります（600円） \n※当日券：＋1\,000円 \n※再入場ドリンク代がかかります。\n※撮影可否は各演者様レギュレーションの通り \nhttps://t.livepocket.jp/e/cps_u \n■出演■\nアクアリウム。 \n■タイムテーブル■\n18:40　OPEN\n19:00～19:50　アクアリウム。 \n19:50～20:00　特典会準備・換気\n20:00～21:00　終演後特典会
URL:https://1469st.com/event/%e3%80%8e%e6%b0%b4%e5%a7%ab%e3%81%b2%e3%81%aa%e3%81%ae%e3%80%8fmini%e7%94%9f%e8%aa%95%e7%a5%ad/
CATEGORIES:event
END:VEVENT
BEGIN:VEVENT
DTSTART;TZID=Asia/Tokyo:20251108T080000
DTEND;TZID=Asia/Tokyo:20251108T170000
DTSTAMP:20260422T122915
CREATED:20251026T040302Z
LAST-MODIFIED:20251106T061146Z
UID:1750-1762588800-1762621200@1469st.com
SUMMARY:CASTLE OF ROCK vol.10
DESCRIPTION:
URL:https://1469st.com/event/castle-of-rock-10/
CATEGORIES:event
END:VEVENT
BEGIN:VEVENT
DTSTART;TZID=Asia/Tokyo:20251109T080000
DTEND;TZID=Asia/Tokyo:20251109T170000
DTSTAMP:20260422T122915
CREATED:20251022T121426Z
LAST-MODIFIED:20251109T032446Z
UID:1733-1762675200-1762707600@1469st.com
SUMMARY:「歌い手たちの宴 vol.5」 
DESCRIPTION:2025.11.9(日)\n心斎橋SHOVEL pre 「歌い手たちの宴 vol.5」 \n会場　心斎橋SHOVEL　　https://1469st.com \nOPEN/START 15:30/16:00 (予定) \n前売 2\,000- /当日 2500-(w/1D) \n出演\n獅乃 結奏\nuki\nSiM\nrik\nおでんの大根\n獅音レーヴェ\nくっすん\neel-イル\nちとせ\nヲタクとアイドル \n【チケット及び入場順】\n1.前売り　Tiget https://tiget.net/events/439132\n2.演者予約\n3.当日 \n1カメ固定のTwicas Premium配信\n配信チケット1500円　 2025.11.9(日)\n心斎橋SHOVEL pre 「歌い手たちの宴 vol.5」 \n会場　心斎橋SHOVEL
URL:https://1469st.com/event/%e3%80%8c%e6%ad%8c%e3%81%84%e6%89%8b%e3%81%9f%e3%81%a1%e3%81%ae%e5%ae%b4-vol-5%e3%80%8d/
CATEGORIES:event
END:VEVENT
BEGIN:VEVENT
DTSTART;TZID=Asia/Tokyo:20251113T080000
DTEND;TZID=Asia/Tokyo:20251113T170000
DTSTAMP:20260422T122915
CREATED:20251102T075438Z
LAST-MODIFIED:20251102T075438Z
UID:1782-1763020800-1763053200@1469st.com
SUMMARY:透明少女主催「神キャリー3」
DESCRIPTION:◆2025年11月13日(木)心斎橋SHOVEL\n透明少女主催\n「神キャリー3」 \nOPEN 16:30 / START 17:00\n前売 ¥4\,000 / 当日 ¥4\,500 \n[出演]\n透明少女\nDLESS\nRE:INa\n酒タバコご飯 \n[チケット]\n2025年10月18日(土)10:00〜e+にて発売開始https://eplus.jp/sf/detail/4409840001
URL:https://1469st.com/event/%e9%80%8f%e6%98%8e%e5%b0%91%e5%a5%b3%e4%b8%bb%e5%82%ac%e3%80%8c%e7%a5%9e%e3%82%ad%e3%83%a3%e3%83%aa%e3%83%bc3%e3%80%8d/
CATEGORIES:event
END:VEVENT
BEGIN:VEVENT
DTSTART;TZID=Asia/Tokyo:20251115T080000
DTEND;TZID=Asia/Tokyo:20251115T170000
DTSTAMP:20260422T122915
CREATED:20250628T011141Z
LAST-MODIFIED:20251026T083251Z
UID:1514-1763193600-1763226000@1469st.com
SUMMARY:MinstreliX PRESENTS “Gathering with Phantom Excaliver vol.1”
DESCRIPTION:傑作THE RISING KINGDOMと共にPhantom Excaliver来阪！\n真のXaMETALとは…\n君は今歴史の目撃者となる\nMinstreliX PRESENTS\n“Gathering with Phantom Excaliver vol.1” \n【日時】\n2025/11/15(土)\nOPEN 17:30 / START 18:00 / END TBD\n【会場】\n大阪・心斎橋SHOVEL（Google MAP）\n【チケット詳細】\n《前売》￥5\,000(1d込) /《当日》￥5\,500(1d込)\n※ 入場順： ①WEBチケット発券順 → ②当日券\n【チケット】\n発売日時： 2025/9/14(日) 20:00〜 以下のURLで予約開始\nhttps://tiget.net/events/410146 \n※その他METAL Makes the Future TOUR公演のチケット発売日等につきましては、PhantomExcaliver様のSNS等で公開されますので、引き続きチェックをお願いいたします
URL:https://1469st.com/event/gathering-with-phantom-excaliver-vol-1/
CATEGORIES:event
END:VEVENT
BEGIN:VEVENT
DTSTART;TZID=Asia/Tokyo:20251116T080000
DTEND;TZID=Asia/Tokyo:20251116T170000
DTSTAMP:20260422T122915
CREATED:20250712T110748Z
LAST-MODIFIED:20250712T110801Z
UID:1561-1763280000-1763312400@1469st.com
SUMMARY:MARTYR×SEVENTH SON Coupling Japan Tour 2025
DESCRIPTION:〜拡散希望〜 \n昨年7月にドラマーTaiの病気によりキャンセルとなった大阪のリベンジが決定！\n何とオランダの至宝MARTYRも来日し大阪に上陸！\nラインナップも超強力！\nソールドアウト必至、絶対に見逃せないイベントになります！ \nMARTYR×SEVENTH SON\nCoupling Japan Tour 2025 \n2025年11月16日（日）\n大阪　心斎橋　SHOVEL \n前売り￥3500+ドリンク\n当日　￥4000+ドリンク \n出演\nMARTYR（from Netherlands）\nSEVENTH SON\nRaging Fury\neleanor\n六合
URL:https://1469st.com/event/martyrxseventh-son-coupling-japan-tour-2025/
CATEGORIES:event
END:VEVENT
BEGIN:VEVENT
DTSTART;TZID=Asia/Tokyo:20251119T080000
DTEND;TZID=Asia/Tokyo:20251119T170000
DTSTAMP:20260422T122915
CREATED:20251015T093315Z
LAST-MODIFIED:20251015T093315Z
UID:1724-1763539200-1763571600@1469st.com
SUMMARY:Sawage！2man Free Live！vol.11
DESCRIPTION:日時：2025年11月19日（水）\n公演名：『Sawage！2man Free Live！vol.11』\n場所：心斎橋ショベル\n時間：OPEN 19:15/START 19:30\n価格：\n①優先エリア：1\,500円 \n②女性エリア：0円\n③一般エリア：0円 \n入場：①→②→③チケット番号順\n※別途ドリンク代がかかります（600円） \n※当日券：＋1\,000円 \n※再入場ドリンク代がかかります。\n※撮影可否は各演者様レギュレーションの通り \nhttps://t.livepocket.jp/e/vqdmj \n■出演■\nアクアリウム。\ncaprice \n■タイムテーブル■\n19:15　OPEN\n19:30～20:00　アクアリウム。\n20:00～20:30　caprice \n20:30～20:40　特典会準備\n20:40～21:40　終演後特典会
URL:https://1469st.com/event/sawage%ef%bc%812man-free-live%ef%bc%81vol-11/
CATEGORIES:event
END:VEVENT
BEGIN:VEVENT
DTSTART;TZID=Asia/Tokyo:20251122T080000
DTEND;TZID=Asia/Tokyo:20251122T170000
DTSTAMP:20260422T122915
CREATED:20251019T104547Z
LAST-MODIFIED:20251019T104547Z
UID:1727-1763798400-1763830800@1469st.com
SUMMARY:ROCK INPACT
DESCRIPTION:
URL:https://1469st.com/event/rock-inpact/
CATEGORIES:event
END:VEVENT
BEGIN:VEVENT
DTSTART;TZID=Asia/Tokyo:20251123T080000
DTEND;TZID=Asia/Tokyo:20251123T170000
DTSTAMP:20260422T122915
CREATED:20251004T084729Z
LAST-MODIFIED:20251012T013920Z
UID:1703-1763884800-1763917200@1469st.com
SUMMARY:カプセル丼 vol.10
DESCRIPTION:2025年11月23日(日) \nカプセル丼 vol.10 \nOpen 16:00 / Start 16:30\n【Ticket】\nadv ¥2\,500 / door ¥3\,000\n( ＋1ドリンク代 ¥600)\n【出演】\nTiny / 惜しいオズボーン / NAKED WILD\nKENNY BRYANT / MiTANiE CRUE / カプセルスープ
URL:https://1469st.com/event/%e3%82%ab%e3%83%97%e3%82%bb%e3%83%ab%e4%b8%bc-vol-10/
CATEGORIES:event
END:VEVENT
BEGIN:VEVENT
DTSTART;TZID=Asia/Tokyo:20251124T080000
DTEND;TZID=Asia/Tokyo:20251124T170000
DTSTAMP:20260422T122915
CREATED:20250920T123406Z
LAST-MODIFIED:20250920T123406Z
UID:1687-1763971200-1764003600@1469st.com
SUMMARY:寺沢功一 低音座談会
DESCRIPTION:寺沢功一 低音座談会 \nロックベーシスト寺沢功一が、ベースのことや、アンサンブルに於けるリズムの仕組み等、音楽にまつわる話を質問形式でおしゃべりするイベントです。参加者に奏法を直接レクチャーするベースクリニック、ミニベースソロライブもあります。楽器は演奏しないけど音楽大好き！という方もぜひ参加してください。アフターパーティーもあります！ \n☆2025年11月24日（月;祝）☆\n心斎橋SHOVEL\n大阪府大阪市中央区西心斎橋2-4-17\nおおきに花月久左衛門ビル2号B1F\nTEL 06-4256-4565\nhttps://1469st.com \n前売り 4\,000円\n当日 4\,500円\n（ドリンク別 600円） \n開場 17:30\n開演 18:00 \n【ベースクリニック予約】\n直接ベースを指導されたい方は、件名に「11/24、クリニック」と明記して下記アドレスにメールでお申し込みください。先着2名様まで、別途料金はありません。\nshovel1469@gmail.com \n【アフターパーティー料金】\n2\,000円（1ドリンク、おつまみ付）\n※2ドリンク以降キャッシュオン \n【チケット予約】\n◯ホームページから予約\nhttps://1469st.com/contact-4/\n◯メールで予約\n下記メールアドレスへ、お名前、希望枚数、アフターパーティー参加の有無を明記して送ってください。\nshovel1469@gmail.com
URL:https://1469st.com/event/%e5%af%ba%e6%b2%a2%e5%8a%9f%e4%b8%80-%e4%bd%8e%e9%9f%b3%e5%ba%a7%e8%ab%87%e4%bc%9a/
CATEGORIES:event
END:VEVENT
BEGIN:VEVENT
DTSTART;TZID=Asia/Tokyo:20251129T080000
DTEND;TZID=Asia/Tokyo:20251129T170000
DTSTAMP:20260422T122915
CREATED:20250831T150004Z
LAST-MODIFIED:20250830T111221Z
UID:1665-1764403200-1764435600@1469st.com
SUMMARY:MARINO vs JIMMY
DESCRIPTION:11月29日(土)\n心斎橋SHOVEL\nMARINO vs JIMMY \nOPEN 16:00\nSTART 17:00\n※整理番号順の入場となります。 \n①ライブチケットのみ\n¥7.000 (別途 1drink ¥600)\n②ライブチケット＋JIMMYmeet &greetチケット\n¥10.000 (別途 1drink¥600) \nhttps://tiget.net/events/424272 \n※ミーグリはチケット番号順に行いますのでスタッフの指示に従って下さい
URL:https://1469st.com/event/marino-vs-jimmy/
CATEGORIES:event
END:VEVENT
BEGIN:VEVENT
DTSTART;TZID=Asia/Tokyo:20251130T080000
DTEND;TZID=Asia/Tokyo:20251130T170000
DTSTAMP:20260422T122915
CREATED:20250514T143043Z
LAST-MODIFIED:20251204T130239Z
UID:1436-1764489600-1764522000@1469st.com
SUMMARY:開催延期！！第１回 COMPLEXセッション
DESCRIPTION:開催延期！！ \n2025.11.30(SUN)\n第１回 COMPLEXセッション\n@心斎橋SHOVEL\nOPEN 12:00 / START 12:30\n￥3\,000(1Drink込)\n19:00～打ち上げ\n参加費￥2\,000(軽食＆2Drink付) \n3\,000円＋１ドリンク\n打ち上げ参加費\n2\,000円２ドリンク込み
URL:https://1469st.com/event/%e7%ac%ac%ef%bc%91%e5%9b%9e-complex%e3%82%bb%e3%83%83%e3%82%b7%e3%83%a7%e3%83%b3/
CATEGORIES:event
END:VEVENT
END:VCALENDAR