BEGIN:VCALENDAR
VERSION:2.0
PRODID:-//心斎橋ショベル - ECPv6.6.3//NONSGML v1.0//EN
CALSCALE:GREGORIAN
METHOD:PUBLISH
X-WR-CALNAME:心斎橋ショベル
X-ORIGINAL-URL:https://1469st.com
X-WR-CALDESC:心斎橋ショベル のイベント
REFRESH-INTERVAL;VALUE=DURATION:PT1H
X-Robots-Tag:noindex
X-PUBLISHED-TTL:PT1H
BEGIN:VTIMEZONE
TZID:Asia/Tokyo
BEGIN:STANDARD
TZOFFSETFROM:+0900
TZOFFSETTO:+0900
TZNAME:JST
DTSTART:20250101T000000
END:STANDARD
END:VTIMEZONE
BEGIN:VEVENT
DTSTART;TZID=Asia/Tokyo:20250807T080000
DTEND;TZID=Asia/Tokyo:20250807T170000
DTSTAMP:20260422T080634
CREATED:20250730T154032Z
LAST-MODIFIED:20250730T154032Z
UID:1618-1754553600-1754586000@1469st.com
SUMMARY:勝小虎誕生日公演
DESCRIPTION:
URL:https://1469st.com/event/%e5%8b%9d%e5%b0%8f%e8%99%8e%e8%aa%95%e7%94%9f%e6%97%a5%e5%85%ac%e6%bc%94/
CATEGORIES:event
END:VEVENT
BEGIN:VEVENT
DTSTART;TZID=Asia/Tokyo:20250808T080000
DTEND;TZID=Asia/Tokyo:20250808T170000
DTSTAMP:20260422T080634
CREATED:20250730T090035Z
LAST-MODIFIED:20250729T161344Z
UID:1613-1754640000-1754672400@1469st.com
SUMMARY:Sawage！2man Free Live！vol.6
DESCRIPTION:日時：2025年8月8日（金）\n公演名：『Sawage！2man Free Live！vol.6』\n場所：心斎橋ショベル\n時間：OPEN 19:15/START 19:30\n価格：\n①最前マサイ専用（7枚）：2\,000円 \n②女性エリア：0円\n③一般エリア：0円\n④当日：1\,000円 \nhttps://t.livepocket.jp/e/eswwk\n入場：①→②→③→④チケット番号順\n※別途ドリンク代がかかります（600円） \n※当日券：＋1\,000円 \n※再入場ドリンク代がかかります。\n※撮影可否は各演者様レギュレーションの通り \n  \n■出演■\nアクアリウム。\nうぃるめり！ \n■タイムテーブル■\n19:15　OPEN\n19:30～20:00　うぃるめり！\n20:00～20:30　アクアリウム。 \n20:30～20:40　特典会準備\n20:40～21:40　終演後特典会 \n \n【注意事項とご協力のお願い】\n・マサイ推しジャンOK\n・リフトOK\n※天井機材は触らない触れないでください。\n・サーフ、モッシュ、ダイブはNG\n・コールMIX自由\n※打つ種類に決まりはありません\n・ペンライト\n※液体系UO類はNGとさせて頂きます\n・撮影動画静止画掲載自由（アクアリウム。以外の共演者様にはご確認ください。）\n※共演者は各レギュレーション通り\n・床にジュース等置かないこぼさない\n※1ドリンクは600円です\n・サークル、横移動なども特に制限は設けておりませんが他のお客様の迷惑やクレームにならない常識範囲内で楽しんでもらえたら幸いです。そのような行為によりケガ・事故等発生した場合は当事者同士で協議を頂き、主催者は関与致しかねます。\n・スタッフの注意や警告をお聞き頂けない場合、ご退場をお願いすることがございます。その際のチケット代の返金等は出来兼ねますので、ご理解ご了承の程、宜しくお願い致します。\n・出演者・出演＆特典会時間はメンバーの体調不良やスケジュールの都合等の理由により、変更になる可能性がありますので予めご了承下さい。その際の返金などは一切応じられませんので予めご了承ください。\n・イベントなど開始時間、終了時間が変更になる可能性もございますので、予めご了承ください。\n・出待ち、入り待ち等、近隣の方の迷惑になる行為はお辞め下さい。\n閉じる \n 
URL:https://1469st.com/event/sawage%ef%bc%812man-free-live%ef%bc%81vol-6/
CATEGORIES:event
END:VEVENT
BEGIN:VEVENT
DTSTART;TZID=Asia/Tokyo:20250811T080000
DTEND;TZID=Asia/Tokyo:20250811T170000
DTSTAMP:20260422T080634
CREATED:20250716T150911Z
LAST-MODIFIED:20250716T150911Z
UID:1571-1754899200-1754931600@1469st.com
SUMMARY:ZIGGYセッション Vol.7
DESCRIPTION:
URL:https://1469st.com/event/ziggy%e3%82%bb%e3%83%83%e3%82%b7%e3%83%a7%e3%83%b3-vol-7/
CATEGORIES:event
END:VEVENT
BEGIN:VEVENT
DTSTART;TZID=Asia/Tokyo:20250813T080000
DTEND;TZID=Asia/Tokyo:20250813T170000
DTSTAMP:20260422T080634
CREATED:20250614T031548Z
LAST-MODIFIED:20250614T031548Z
UID:1492-1755072000-1755104400@1469st.com
SUMMARY:ルルノネ主催 「夏の大騒ぎ合戦~大阪~」
DESCRIPTION:2025.8.13 心斎橋ショベル \nルルノネ主催 「夏の大騒ぎ合戦~大阪~」 \n開場/ 開演 17:00 / 17:30 \n前売 / 当日 ¥4000- / ¥4500-　(D代別) \n出演 \nルルノネ / モザヰク \n入場順 前売→当日 \nチケット発売日2025/6/28(土) eプラス 10:00~\nhttps://eplus.jp/sf/detail/4348380001-P0030001
URL:https://1469st.com/event/%e3%83%ab%e3%83%ab%e3%83%8e%e3%83%8d%e4%b8%bb%e5%82%ac-%e3%80%8c%e5%a4%8f%e3%81%ae%e5%a4%a7%e9%a8%92%e3%81%8e%e5%90%88%e6%88%a6%e5%a4%a7%e9%98%aa%e3%80%8d/
CATEGORIES:event
END:VEVENT
BEGIN:VEVENT
DTSTART;TZID=Asia/Tokyo:20250816T080000
DTEND;TZID=Asia/Tokyo:20250816T170000
DTSTAMP:20260422T080634
CREATED:20250710T070034Z
LAST-MODIFIED:20250710T070034Z
UID:1558-1755331200-1755363600@1469st.com
SUMMARY:Rock'n'Roll Syndrome
DESCRIPTION:2025年8月16日(土)\nTribute Band Live Show Vol.3\nRock’n’Roll Syndrome\nOPEN 14:00 / START 14:30\nADV 2\,200yen / DOOR 2\,500yen
URL:https://1469st.com/event/rocknroll-syndrome/
CATEGORIES:event
END:VEVENT
BEGIN:VEVENT
DTSTART;TZID=Asia/Tokyo:20250822T080000
DTEND;TZID=Asia/Tokyo:20250822T170000
DTSTAMP:20260422T080634
CREATED:20250731T090035Z
LAST-MODIFIED:20250731T125000Z
UID:1621-1755849600-1755882000@1469st.com
SUMMARY:Sawage！2man Free Live！vol.7
DESCRIPTION:日時：2025年8月22日（金）\n公演名：『Sawage！2man Free Live！vol.7』\n場所：心斎橋ショベル\n時間：OPEN 19:15/START 19:30\n価格：\n①最前マサイ専用（7枚）：2\,000円 \n②女性エリア：0円\n③一般エリア：0円\n④当日：1\,000円\nhttps://t.livepocket.jp/e/4210y \n入場：①→②→③→④チケット番号順\n※別途ドリンク代がかかります（600円） \n※当日券：＋1\,000円 \n※再入場ドリンク代がかかります。\n※撮影可否は各演者様レギュレーションの通り \n■出演■\nアクアリウム。\nParaMilla \n■タイムテーブル■\n19:15　OPEN\n19:30～20:00　ParaMilla\n20:00～20:30　アクアリウム。 \n20:30～20:40　特典会準備\n20:40～21:40　終演後特典会 \n\n【注意事項とご協力のお願い】\n・マサイ推しジャンOK\n・リフトOK\n※天井機材は触らない触れないでください。\n・サーフ、モッシュ、ダイブはNG\n・コールMIX自由\n※打つ種類に決まりはありません\n・ペンライト\n※液体系UO類はNGとさせて頂きます\n・撮影動画静止画掲載自由（アクアリウム。以外の共演者様にはご確認ください。）\n※共演者は各レギュレーション通り\n・床にジュース等置かないこぼさない\n※1ドリンクは600円です\n・サークル、横移動なども特に制限は設けておりませんが他のお客様の迷惑やクレームにならない常識範囲内で楽しんでもらえたら幸いです。そのような行為によりケガ・事故等発生した場合は当事者同士で協議を頂き、主催者は関与致しかねます。\n・スタッフの注意や警告をお聞き頂けない場合、ご退場をお願いすることがございます。その際のチケット代の返金等は出来兼ねますので、ご理解ご了承の程、宜しくお願い致します。\n・出演者・出演＆特典会時間はメンバーの体調不良やスケジュールの都合等の理由により、変更になる可能性がありますので予めご了承下さい。その際の返金などは一切応じられませんので予めご了承ください。\n・イベントなど開始時間、終了時間が変更になる可能性もございますので、予めご了承ください。\n・出待ち、入り待ち等、近隣の方の迷惑になる行為はお辞め下さい
URL:https://1469st.com/event/sawage%ef%bc%812man-free-live%ef%bc%81vol-7/
CATEGORIES:event
END:VEVENT
BEGIN:VEVENT
DTSTART;TZID=Asia/Tokyo:20250823T080000
DTEND;TZID=Asia/Tokyo:20250823T170000
DTSTAMP:20260422T080634
CREATED:20250716T151126Z
LAST-MODIFIED:20250717T161222Z
UID:1574-1755936000-1755968400@1469st.com
SUMMARY:"JAPANの魂-TAMASHII-"
DESCRIPTION:2025年8月23日(土)\n“JAPANの魂-TAMASHII-” \nOPEN 16:30 /START 17:00\nADV 2\,500yen / DOOR 3\,000yen\n＋1Drink 600yen \n-出演- \nVERGINE\nGAMBLER\nVioletia\n伊右衛門\n爆威
URL:https://1469st.com/event/japan%e3%81%ae%e9%ad%82-tamashii/
CATEGORIES:event
END:VEVENT
BEGIN:VEVENT
DTSTART;TZID=Asia/Tokyo:20250824T080000
DTEND;TZID=Asia/Tokyo:20250824T170000
DTSTAMP:20260422T080634
CREATED:20250718T125641Z
LAST-MODIFIED:20250718T125641Z
UID:1582-1756022400-1756054800@1469st.com
SUMMARY:J-ROCK-POP FES Vol.2
DESCRIPTION:2025年8月24日(日)\n“J-ROCK-POP FES Vol.2”\nOPEN 15:00 / START 15:30\nTICKET 2\,400yen + 1drink 600yen
URL:https://1469st.com/event/j-rock-pop-fes-vol-2/
CATEGORIES:event
END:VEVENT
BEGIN:VEVENT
DTSTART;TZID=Asia/Tokyo:20250830T080000
DTEND;TZID=Asia/Tokyo:20250830T170000
DTSTAMP:20260422T080634
CREATED:20250509T163621Z
LAST-MODIFIED:20250720T113653Z
UID:1430-1756540800-1756573200@1469st.com
SUMMARY:心斎橋HARD NIGHT
DESCRIPTION:2025/08/30(SAT)\n心斎橋HARD NIGHT\n＠心斎橋SHOVEL\nADV ￥2\,500 / DOOR ￥3\,000\nOPEN 16:30 / START 17:00 \nACT\nIRON MEISON\nBED ZETTULIN\nRadios\n惜しいオズボーン\n全日本平日撤廃党
URL:https://1469st.com/event/%e5%bf%83%e6%96%8e%e6%a9%8bhard-night/
CATEGORIES:event
END:VEVENT
END:VCALENDAR