BEGIN:VCALENDAR
VERSION:2.0
PRODID:-//心斎橋ショベル - ECPv6.6.3//NONSGML v1.0//EN
CALSCALE:GREGORIAN
METHOD:PUBLISH
X-WR-CALNAME:心斎橋ショベル
X-ORIGINAL-URL:https://1469st.com
X-WR-CALDESC:心斎橋ショベル のイベント
REFRESH-INTERVAL;VALUE=DURATION:PT1H
X-Robots-Tag:noindex
X-PUBLISHED-TTL:PT1H
BEGIN:VTIMEZONE
TZID:Asia/Tokyo
BEGIN:STANDARD
TZOFFSETFROM:+0900
TZOFFSETTO:+0900
TZNAME:JST
DTSTART:20250101T000000
END:STANDARD
END:VTIMEZONE
BEGIN:VEVENT
DTSTART;TZID=Asia/Tokyo:20250405T080000
DTEND;TZID=Asia/Tokyo:20250405T170000
DTSTAMP:20260422T051134
CREATED:20250203T144704Z
LAST-MODIFIED:20250315T092404Z
UID:1187-1743840000-1743872400@1469st.com
SUMMARY:SABER TIGER ELIMINATED TOUR 2025
DESCRIPTION:2025.04.05(SAT)\n[会場] 大阪 SHOVEL\n[時間] 開場17:00 / 開演17:30\n[料金] オールスタンディング 前売6\,000円 / 当日6\,500円 (1Drink600円別) \n[ チケット販売 ]\n・FC先行販売：2月18日(火) 20:30 (SABER TIGER OFFICIAL SHOP)\n・一般販売：2月25日(火) 20:30 (SABER TIGER OFFICIAL SHOP)\n・プレイガイド販売：3月11日(火)https://eplus.jp/sf/detail/4269370001-P0030001 \n[ 入場順 ]\n1. FC先行販売 (整理番号順)\n2. 一般販売 (整理番号順)\n3. プレイガイド販売 (整理番号順)\n4. ライブハウス予約\n5. 当日券\n※ご入場時、ライブハウス内で走ったり、無理に追い抜いたり等しない様お願いします。
URL:https://1469st.com/event/saber-tiger-eliminated-tour-2025/
CATEGORIES:event
END:VEVENT
BEGIN:VEVENT
DTSTART;TZID=Asia/Tokyo:20250406T080000
DTEND;TZID=Asia/Tokyo:20250406T170000
DTSTAMP:20260422T051134
CREATED:20250225T133804Z
LAST-MODIFIED:20250227T055233Z
UID:1262-1743926400-1743958800@1469st.com
SUMMARY:“Chaos of Music Vol.4” 〜女性ボーカル祭り〜
DESCRIPTION:“Chaos of Music Vol.4”\n〜女性ボーカル祭り〜 \n2025.4.6(sun) \nOPEN-14:30 START-15:00 \n場所:心斎橋SHOVEL \nticket 2\,000円＋drink 600円 \n①ReaL River (平成ヒットソング)\n15:00-15:35 \n②喰霊乱舞 (陰陽座)\n15:45-16:20 \n③KM-FLEX (COMPLEX)\n16:30-17:05 \n④JUDY AND MURY (JUDY AND MARY)\n17:15-17:50 \n⑤ 本能寺変 (東京事変・椎名林檎)\n18:00-18:35
URL:https://1469st.com/event/chaos-of-music-final/
CATEGORIES:event
END:VEVENT
BEGIN:VEVENT
DTSTART;TZID=Asia/Tokyo:20250412T080000
DTEND;TZID=Asia/Tokyo:20250412T170000
DTSTAMP:20260422T051134
CREATED:20250204T091711Z
LAST-MODIFIED:20250208T065727Z
UID:1190-1744444800-1744477200@1469st.com
SUMMARY:ゴショウワクダサイ～第１幕～
DESCRIPTION:2025年4月12日(土) \nゴショウワクダサイ～第１幕～\n開場 16:30 / 開演 17:00\n前売券 2\,500円 / 当日券 3\,000円\nご入場の際にドリンク代として600円を別途お支払いいただいております。 \n出演者 \n増田麻里\nボウイのコピバン\nヒロキ&バーモンツ\nYOSENABE\nZ’z　　　　　　　　※順不同
URL:https://1469st.com/event/%e3%82%b4%e3%82%b7%e3%83%a7%e3%82%a6%e3%83%af%e3%82%af%e3%83%80%e3%82%b5%e3%82%a4%ef%bd%9e%e7%ac%ac%ef%bc%91%e5%b9%95%ef%bd%9e/
END:VEVENT
BEGIN:VEVENT
DTSTART;TZID=Asia/Tokyo:20250413T080000
DTEND;TZID=Asia/Tokyo:20250413T170000
DTSTAMP:20260422T051134
CREATED:20241221T121339Z
LAST-MODIFIED:20250218T170211Z
UID:1072-1744531200-1744563600@1469st.com
SUMMARY:anfiel 10th Anniversary LIVE TOUR 「CELEBRATiONS」
DESCRIPTION:■anfiel 10th Anniversary LIVE TOUR\n「CELEBRATiONS」 \nchapter 1.\n04.13(SUN) Bigtwin Diner SHOVEL\n[OPEN/START] 17:00/17:30\n[前売/当日] ¥3\,000/¥3\,500(+D代) \n[チケットURL] https://t.livepocket.jp/t/anfiel_cr\n[チケット詳細]\nファンクラブ先行(A)：12/21 21:00～12/29 23:59\nファンクラブ入会期間：12/28 23:59\n一般(B)：2025/1/31(金) 10:00 〜 2025/4/12(土) 23:59 \n入場順：A→B→当日券
URL:https://1469st.com/event/anfiel-10th-anniversary/
CATEGORIES:event
END:VEVENT
BEGIN:VEVENT
DTSTART;TZID=Asia/Tokyo:20250419T080000
DTEND;TZID=Asia/Tokyo:20250419T170000
DTSTAMP:20260422T051134
CREATED:20250301T112433Z
LAST-MODIFIED:20250301T112433Z
UID:1302-1745049600-1745082000@1469st.com
SUMMARY:KNOCK’EM DEAD 35周年記念＆NEW ALBUM “BELIVE YOUR SELF”レコ発ライヴ！
DESCRIPTION:KNOCK’EM DEAD\n35周年記念＆NEW ALBUM\n“BELIVE YOUR SELF”レコ発ライヴ！ \n2025.4.19(Sat.)\n心斎橋SHOVEL\nOpen 17:00 Start 17:30\nAdv.¥3\,000 Door ¥3\,500(D.代別)\n出演 : KNOCK’EM DEAD\nSpecial Guest : FORCE FIELD
URL:https://1469st.com/event/knockem-dead-35th-anniv%ef%bc%86new-album-belive-your-self-release-live/
CATEGORIES:event
END:VEVENT
BEGIN:VEVENT
DTSTART;TZID=Asia/Tokyo:20250420T080000
DTEND;TZID=Asia/Tokyo:20250420T170000
DTSTAMP:20260422T051134
CREATED:20250225T133933Z
LAST-MODIFIED:20250404T100555Z
UID:1265-1745136000-1745168400@1469st.com
SUMMARY:心斎橋合戦絵巻 第弐巻
DESCRIPTION:2025年4月20日 (日)\n【会場】\n心斎橋SHOVEL \n心斎橋合戦絵巻 第弐巻 \n【Cast】\nSeventh Heaven\n血まみれ農夫の逆襲\nドーベルマン\nJ-Buck\n高橋信成 \nOpen 16:30\nStart 17:00 \n【Ticket】\nadv・¥3000\ndoor・ ¥3500\n( ＋1ドリンク代 ¥600) \nチケットは各バンド予約\n入場順は整列順
URL:https://1469st.com/event/%e5%bf%83%e6%96%8e%e6%a9%8b%e5%90%88%e6%88%a6%e7%b5%b5%e5%b7%bb-%e7%ac%ac%e5%bc%90%e5%b7%bb/
CATEGORIES:event
END:VEVENT
BEGIN:VEVENT
DTSTART;TZID=Asia/Tokyo:20250426T080000
DTEND;TZID=Asia/Tokyo:20250426T170000
DTSTAMP:20260422T051134
CREATED:20250127T130009Z
LAST-MODIFIED:20250127T130009Z
UID:1174-1745654400-1745686800@1469st.com
SUMMARY:THUNDER BIRD A GO GO!!! 〜大阪DUCK-LEE大会VOL2〜
DESCRIPTION:THUNDER BIRD A GO GO!!!\n〜大阪DUCK-LEE大会VOL2〜 \n▪️日時\n4月26日(土)\nOPEN 14:45\nSTART 15:15 \n▪️場所\n心斎橋SHOVEL \n▪️チケット\n￥2\,000(＋1ドリンク￥600) \n▪️ACT\n▪︎ MORISHIGGY\n(as ZIGGY)\n▪︎上海GIRLZ\n(as ZIGGY)\n▪︎やんすZIGGYせっしょんず\n(as ZIGGY)\n▪︎P☆S☆M\n(as The DUST’N’BONEZ)\n▪︎GIZZY\n(as ZIGGY)\n▪︎THE SLEAZY DUCK\n(as THE SLUT BANKS)
URL:https://1469st.com/event/thunder-bird-a-go-go-%e3%80%9c%e5%a4%a7%e9%98%aaduck-lee%e5%a4%a7%e4%bc%9avol2%e3%80%9c/
CATEGORIES:event
END:VEVENT
END:VCALENDAR