BEGIN:VCALENDAR
VERSION:2.0
PRODID:-//心斎橋ショベル - ECPv6.6.3//NONSGML v1.0//EN
CALSCALE:GREGORIAN
METHOD:PUBLISH
X-ORIGINAL-URL:https://1469st.com
X-WR-CALDESC:心斎橋ショベル のイベント
REFRESH-INTERVAL;VALUE=DURATION:PT1H
X-Robots-Tag:noindex
X-PUBLISHED-TTL:PT1H
BEGIN:VTIMEZONE
TZID:Asia/Tokyo
BEGIN:STANDARD
TZOFFSETFROM:+0900
TZOFFSETTO:+0900
TZNAME:JST
DTSTART:20250101T000000
END:STANDARD
END:VTIMEZONE
BEGIN:VEVENT
DTSTART;TZID=Asia/Tokyo:20250104T080000
DTEND;TZID=Asia/Tokyo:20250104T170000
DTSTAMP:20260422T110716
CREATED:20241018T071108Z
LAST-MODIFIED:20241018T071108Z
UID:932-1735977600-1736010000@1469st.com
SUMMARY:なおたん祭 ～カワイイLv.39～
DESCRIPTION:なおたん祭 ～カワイイLv.39～ \n2025/1/4(土) \nOPEN 11:45  /  START 12:15 \nTICKET  ￥2\,000 + 1Drink (￥600) \n出演 \n【なおたそのバンド】 \nひめざくろ / ちょっと真夜中でいいのに / Addict Black Cat\nBANDOLDOLL / PINKY ROCKETS / アデモネ\nMABUCY / JAMUUU / BLUE BELL \n【なおたその推し】 \nゆみちぃ / Shine4ever
URL:https://1469st.com/event/%e3%81%aa%e3%81%8a%e3%81%9f%e3%82%93%e7%a5%ad-%ef%bd%9e%e3%82%ab%e3%83%af%e3%82%a4%e3%82%a4lv-39%ef%bd%9e/
CATEGORIES:event
END:VEVENT
BEGIN:VEVENT
DTSTART;TZID=Asia/Tokyo:20250110T080000
DTEND;TZID=Asia/Tokyo:20250110T170000
DTSTAMP:20260422T110716
CREATED:20241214T024805Z
LAST-MODIFIED:20241214T024805Z
UID:1058-1736496000-1736528400@1469st.com
SUMMARY:男女混合アイドルユニット EURO'N NIGHT ハイジ、るあ生誕祭2025
DESCRIPTION:男女混合アイドルユニット\nEURO’N NIGHT\nハイジ、るあ生誕祭2025 \n2025.1.10 金曜日\n心斎橋Shovel \n大阪府大阪市中央区西心斎橋2-4-17 おおきに花月第2ビルB1\nアクセス ◆各線「難波駅」25/26D出口から徒歩5分 ◆地下鉄御堂筋線「心斎橋駅」7/8出口から徒歩8分\n連絡先 06-4256-4565\nWEBサイト https://1469st.com/ \nopen 18：30\nstart 19：00\nCLOSE 22：00 \nゲスト　Pororoca Lindo @Pororoca_Lindo \n出演　EURO’N NIGHT @URON0906 \n料金\n¥3\,500 優先エリア\n¥2\,500 一般 \n各種　ドリンク代別途 \nご予約\n12/1 18：00-\nTIGET | ライブイベントのチケット販売・購入・予約 \nhttps://tiget.net/events/364047
URL:https://1469st.com/event/%e7%94%b7%e5%a5%b3%e6%b7%b7%e5%90%88%e3%82%a2%e3%82%a4%e3%83%89%e3%83%ab%e3%83%a6%e3%83%8b%e3%83%83%e3%83%88-euron-night-%e3%83%8f%e3%82%a4%e3%82%b8%e3%80%81%e3%82%8b%e3%81%82%e7%94%9f%e8%aa%95/
CATEGORIES:event
END:VEVENT
BEGIN:VEVENT
DTSTART;TZID=Asia/Tokyo:20250111T080000
DTEND;TZID=Asia/Tokyo:20250111T170000
DTSTAMP:20260422T110716
CREATED:20250107T160445Z
LAST-MODIFIED:20250107T160445Z
UID:1116-1736582400-1736614800@1469st.com
SUMMARY:FOR ALL IDOLOVERS #アイラバ
DESCRIPTION:FOR ALL IDOLOVERS #アイラバ\n2025年1月11日(土)\n心斎橋SHOVEL\nOPEN 15:10 / START 15:30\n優先2300円/一般1500円/女性&学生500円(別途1ドリンク)\n【出演】\nAI♡RARA/無花果とマシンガン/KiMiNiAiTAi/五代目KONAMON/Chance Movement/da-gashi☆/NI=YON(にぃよん)/#BEMYLOVE/FanCy-/みらくらんど/リボンのないぷれぜんと/リリシック学園 \n【前売チケット】\nhttps://tiget.net/events/371398\n1/7(火)22:00 \n※番号順入場(優先→一般→女性&学生→当日)\n※撮影(各演者様ルール) \n企画・制作\nIDOLISM JAPAN公式twitter\nhttps://t.co/19wJs0Cv26
URL:https://1469st.com/event/for-all-idolovers-%e3%82%a2%e3%82%a4%e3%83%a9%e3%83%90/
CATEGORIES:event
END:VEVENT
BEGIN:VEVENT
DTSTART;TZID=Asia/Tokyo:20250112T080000
DTEND;TZID=Asia/Tokyo:20250112T170000
DTSTAMP:20260422T110716
CREATED:20240913T171817Z
LAST-MODIFIED:20241003T172142Z
UID:700-1736668800-1736701200@1469st.com
SUMMARY:ZIGGYセッションVol.6
DESCRIPTION:ZIGGYセッションVol.6 \n＠心斎橋SHOVEL \n開場 12:00\n開演 13:00\n参加/観覧共に3\,000円(1d込み)
URL:https://1469st.com/event/ziggy%e3%82%bb%e3%83%83%e3%82%b7%e3%83%a7%e3%83%b3vol-6/
CATEGORIES:event
END:VEVENT
BEGIN:VEVENT
DTSTART;TZID=Asia/Tokyo:20250118T080000
DTEND;TZID=Asia/Tokyo:20250118T170000
DTSTAMP:20260422T110716
CREATED:20241117T100426Z
LAST-MODIFIED:20241117T100426Z
UID:1002-1737187200-1737219600@1469st.com
SUMMARY:HARD ROCK REBELLION Vol.2 "REVENGE"
DESCRIPTION:2025年1月18日(土) \nHARD ROCK REBELLION Vol.2 REVENGE\nOPEN 16:00 / START 16:30\nADV 2\,500yen / DOOR 3\,000yen \n出演 \n惜しいオズボーン\nA4/B4\nSTICKY SWEET\nThe Galois\nCloud number 10
URL:https://1469st.com/event/hard-rock-rebellion-vol-2-revenge/
CATEGORIES:event
END:VEVENT
BEGIN:VEVENT
DTSTART;TZID=Asia/Tokyo:20250124T080000
DTEND;TZID=Asia/Tokyo:20250124T170000
DTSTAMP:20260422T110716
CREATED:20250117T035128Z
LAST-MODIFIED:20250117T035128Z
UID:1147-1737705600-1737738000@1469st.com
SUMMARY:【あなたと私の二人夜話】
DESCRIPTION:２０２５年１月２４日(金)\n【あなたと私の二人夜話】特別編。 \n心斎橋SHOVEL\n臨時バー営業イベント開催 \n二人夜話 特別編のゲスト\nローズ＆トレイシー(BIG JACK) \nOpen 19 : 00\nClosed 23 : 00\n(ラストオーダー 22 : 40) \nテーブルチャージ ¥300 \n参加自由\n営業時間中、飲みながら【あなたと私】のトークタイム。\n皆様の気紛れをお待ちしております。 \n心斎橋SHOVEL公式サイト　1469st.com\nお問い合わせ✉️　shovel1469@gmail.com
URL:https://1469st.com/event/%e3%80%90%e3%81%82%e3%81%aa%e3%81%9f%e3%81%a8%e7%a7%81%e3%81%ae%e4%ba%8c%e4%ba%ba%e5%a4%9c%e8%a9%b1%e3%80%91-2/
CATEGORIES:event
END:VEVENT
BEGIN:VEVENT
DTSTART;TZID=Asia/Tokyo:20250125T080000
DTEND;TZID=Asia/Tokyo:20250125T170000
DTSTAMP:20260422T110716
CREATED:20241126T042454Z
LAST-MODIFIED:20241126T042454Z
UID:1036-1737792000-1737824400@1469st.com
SUMMARY:TSUNAMI LIVE GYM 2025
DESCRIPTION:TSUNAMI LIVE GYM 2025 \nOPEN 14:45  /  START 15:15 \nTICKET  ￥2\,000(未成年:無料) + 別途１ドリンク(￥600) \n出演 \n#1518(J-POPカバー) \nRabbits(SHAKALABBITSカバー) \nEmpty Set(BOØWYカバー) \nC-POLAN(T-BOLANカバー) \nAngelfly(Superflyカバー) \nZ’z(B’zカバー)
URL:https://1469st.com/event/tsunami-live-gym-2025/
CATEGORIES:event
END:VEVENT
BEGIN:VEVENT
DTSTART;TZID=Asia/Tokyo:20250126T080000
DTEND;TZID=Asia/Tokyo:20250126T170000
DTSTAMP:20260422T110716
CREATED:20250115T130201Z
LAST-MODIFIED:20250115T130005Z
UID:1141-1737878400-1737910800@1469st.com
SUMMARY:碧衣ゆる生誕祭2025
DESCRIPTION:【公演名】碧衣ゆる生誕祭2025\n【日程】1/26(日)\n【時間】開場18:30 / 開演19:00\n【会場】心斎橋SHOVEL\n【料金】Sチケット（集合写メ付き）5000円 / Aチケット500円 / 当日券各+1000円 (各+1D別)\n【入場】①Sチケット（整理番号順）→②Aチケット（整理番号順）→③当日券（当日整列順）\n【出演】ボクセカ\n【チケット】https://t.livepocket.jp/e/yuru2025\n（1/16 22時30分〜開演時間まで Livepocketにて前売販売）
URL:https://1469st.com/event/%e7%a2%a7%e8%a1%a3%e3%82%86%e3%82%8b%e7%94%9f%e8%aa%95%e7%a5%ad2025/
CATEGORIES:event
END:VEVENT
BEGIN:VEVENT
DTSTART;TZID=Asia/Tokyo:20250131T080000
DTEND;TZID=Asia/Tokyo:20250131T170000
DTSTAMP:20260422T110716
CREATED:20241224T051110Z
LAST-MODIFIED:20250127T015055Z
UID:1082-1738310400-1738342800@1469st.com
SUMMARY:Acoustic Bar 51
DESCRIPTION:2025.01.31(金) \n“Acoustic Bar 51” \nOPEN 19:30  /  START 20:00 \n(Last Order 22:00) \n2Drink + Music Charge  ￥2\,000 \n  \nBAR営業の傍ら、BGMにアコースティック生演奏。 \nGuest  :  キダ竜也(Gt.)  \,  今井愁(Perc.)
URL:https://1469st.com/event/acoustic-bar-51-2/
CATEGORIES:event
END:VEVENT
END:VCALENDAR