BEGIN:VCALENDAR
VERSION:2.0
PRODID:-//心斎橋ショベル - ECPv6.6.3//NONSGML v1.0//EN
CALSCALE:GREGORIAN
METHOD:PUBLISH
X-ORIGINAL-URL:https://1469st.com
X-WR-CALDESC:心斎橋ショベル のイベント
REFRESH-INTERVAL;VALUE=DURATION:PT1H
X-Robots-Tag:noindex
X-PUBLISHED-TTL:PT1H
BEGIN:VTIMEZONE
TZID:Asia/Tokyo
BEGIN:STANDARD
TZOFFSETFROM:+0900
TZOFFSETTO:+0900
TZNAME:JST
DTSTART:20240101T000000
END:STANDARD
END:VTIMEZONE
BEGIN:VEVENT
DTSTART;TZID=Asia/Tokyo:20240819T080000
DTEND;TZID=Asia/Tokyo:20240819T170000
DTSTAMP:20260422T175921
CREATED:20240817T144255Z
LAST-MODIFIED:20241003T173617Z
UID:610-1724054400-1724086800@1469st.com
SUMMARY:【あなたと私の二人夜話】
DESCRIPTION:２０２４年８月１９日(月)\n【あなたと私の二人夜話】 \n心斎橋SHOVEL\n臨時バー営業イベント開催 \n二人夜話 第一夜のゲスト\nAZU (BLACK★STAR) \nOpen 19 : 00\nClosed 23 : 00\n(ラストオーダー 22 : 40) \nテーブルチャージ ¥300 \n参加自由\n営業時間中、飲みながら【あなたと私】のトークタイム。\n皆様の気紛れをお待ちしております。
URL:https://1469st.com/event/%e3%80%90%e3%81%82%e3%81%aa%e3%81%9f%e3%81%a8%e7%a7%81%e3%81%ae%e4%ba%8c%e4%ba%ba%e5%a4%9c%e8%a9%b1%e3%80%91/
CATEGORIES:event
END:VEVENT
BEGIN:VEVENT
DTSTART;TZID=Asia/Tokyo:20240824T080000
DTEND;TZID=Asia/Tokyo:20240824T170000
DTSTAMP:20260422T175921
CREATED:20240929T110922Z
LAST-MODIFIED:20241003T173552Z
UID:777-1724486400-1724518800@1469st.com
SUMMARY:KissBee大阪主催ライブ  〜夏、楽しもか〜↑↑〜
DESCRIPTION:KissBee大阪主催ライブ\n〜夏、楽しもか〜↑↑〜 \n2024.08.24(土)\n会場…心斎橋SHOVEL\n開場…11:30 開演…12:00 \nユニットあり❕特典会特別レギュあり❗️ \n \n 
URL:https://1469st.com/event/kissbee%e5%a4%a7%e9%98%aa%e4%b8%bb%e5%82%ac%e3%83%a9%e3%82%a4%e3%83%96-%e3%80%9c%e5%a4%8f%e3%80%81%e6%a5%bd%e3%81%97%e3%82%82%e3%81%8b%e3%80%9c%e2%86%91%e2%86%91%e3%80%9c/
CATEGORIES:event
END:VEVENT
BEGIN:VEVENT
DTSTART;TZID=Asia/Tokyo:20240825T160000
DTEND;TZID=Asia/Tokyo:20240825T180000
DTSTAMP:20260422T175921
CREATED:20240730T083223Z
LAST-MODIFIED:20241003T173526Z
UID:554-1724601600-1724608800@1469st.com
SUMMARY:69めるモ！〜ゆるめるモ！ロック縛りライブ！大阪編〜
DESCRIPTION:2024.08.25[SUN] \nOPEN/START  16:00 / 16:30 \nSチケット 5\,000円 ( 前方エリア / 20秒動画券1枚付き )\nAチケット 2\,000円 ( 後方エリア )\n※S特典20秒動画券は当日の終演後特典会でのみ使用可能です。お客様のスマートフォンをお預かりして、スタッフが動画撮影をいたします。お好きなメンバーのソロorお客様との２ショットのどちらかをお選びいただけます。 \n>>チケットはこちら<< \nロックの日にちなみ、6/9に東京で開催した69めるモ！を大阪でも開催⚡️！\nジャンル豊かなゆるめるモ！の楽曲の中からロック曲縛りを設けてライブします！！ \n公演日：2024年8月25日(日)\n会場：心斎橋SHOVEL\n大阪府大阪市中央区西心斎橋２丁目４−１７ \n◎タイムテーブル\n16:00 開場 / 16:30 開演\n17:20-18:10 終演後特典会\n※時間は前後する場合がございます。 \n◎チケット代金(※別途1ドリンク代が必要)\nチケット料金：\nSチケット 5\,000円 ( 前方エリア / 20秒動画券1枚付き )\nAチケット 2\,000円 ( 後方エリア )\n※S特典20秒動画券は当日の終演後特典会でのみ使用可能です。お客様のスマートフォンをお預かりして、スタッフが動画撮影をいたします。お好きなメンバーのソロorお客様との２ショットのどちらかをお選びいただけます。 \n★入場順\nS→Aの順にご入場いただきます。\nそれぞれ整理番号順にお呼び出しいたします。 \n★席\n各種エリア内自由席\n※他のお客様分の席取りは一切できかねます。 \nーーーーーーーーーーーーーーー \n▼券売スケジュール\n一般(先着)：7/29(月)22:00〜8/24(土)23:59 \n 
URL:https://1469st.com/event/69%e3%82%81%e3%82%8b%e3%83%a2%ef%bc%81%e3%80%9c%e3%82%86%e3%82%8b%e3%82%81%e3%82%8b%e3%83%a2%ef%bc%81%e3%83%ad%e3%83%83%e3%82%af%e7%b8%9b%e3%82%8a%e3%83%a9%e3%82%a4%e3%83%96%ef%bc%81%e5%a4%a7%e9%98%aa/
CATEGORIES:event
END:VEVENT
BEGIN:VEVENT
DTSTART;TZID=Asia/Tokyo:20240825T190000
DTEND;TZID=Asia/Tokyo:20240825T213000
DTSTAMP:20260422T175921
CREATED:20240730T083730Z
LAST-MODIFIED:20241003T173507Z
UID:558-1724612400-1724621400@1469st.com
SUMMARY:kimi2michu 真夏の東名阪ツアー2024 大阪公演
DESCRIPTION:kimi2michu 真夏の東名阪ツアー2024 \n▼大阪公演 FINAL!!\n2024年8月25日(日)\n会場：心斎橋SHOVEL\n大阪府大阪市中央区西心斎橋２丁目４−１７\n19:00 開場 / 19:30 開演\n20:20-21:20 終演後物販＆特典会 \n◎チケット代金(※別途1ドリンク600円が必要)\n・Sチケット：6\,000円( 最前方エリア / 当日撮り下ろし集合チェキ1枚※1＋コメントチェキ撮影券1枚付き ※2 )\n・Aチケット：2\,000円 ( 前方エリア )\n・初めましてチケット：0円 ( 後方エリア / ※3)\n※1. 当日撮り下ろした集合チェキをお渡しいたします。当たりが出るとサイン入り。非売品。\n※2 コメントチェキ券は当日の終演後特典会でのみ利用可能。お好きなメンバーで利用可能。ソロor2ショットチェキ撮影後、チェキには宛名・サイン・当日の日付・一言コメントを記入いたします。60秒間トークあり。\n※3 初めましてチケットは、kimi2muchuの単独ライブに初めてご参加いただく方限定のチケットとなります。初めてではない方の利用が発覚した場合には、チケットの購入し直しまたはご退場いただく場合がございますのでご注意ください。 \n★入場順\nチケットS→A→初めましてチケットの順にご入場いただきます。\nそれぞれ整理番号順にお呼び出しいたします。 \n★席\n各種エリア内自由席\n※他のお客様分の席取りは一切できかねます。 \nーーーーーーーーーーーーーーー\n▼券売スケジュール\n先行(抽選)：7/28(日)21:00〜8/1(木)23:59\n当落：8/2(金)予定\n一般(先着)：8/3(土)21:00〜 \nーーーーーーーーーーーーーーー \n★本イベントに関する注意事項\n・当日は会場スタッフの指示に従っていただきご観覧ください。\n・会場スタッフの指示に従っていただけない場合や、注意事項をお守りいただけない場合には、ご退場いただく可能性がございます。イベント自体が中断になる可能性もございますので、常識の範囲内でお過ごしいただくようお願いいたします。 \n《チケットについて》\nライブチケットの転売行為は禁止とさせて頂いております。\n尚、主催者の判断のもと、チケットに関する不正行為が発覚した場合は該当チケットは無効となり、ご入場をお断りさせて頂く場合もございます。\n公演が中止になった場合以外、原則的にはチケットの払戻は致しません。\nまた公演当日、譲渡・転売によって発生したトラブルについては、主催者は一切の責任を負いかねますので予めご了承ください。\n※チケットはいかなる場合(紛失・盗難・破損・持ち忘れ等)も再発行いたしません。\n※お客様の都合によるチケット購入後のキャンセル・変更・払い戻しは一切出来ません。 \n《お席に関してのご案内》\n・他のお客様のお席を確保することは禁止させていただいております。\n・ご来場時、以下の事項に該当する方はチケットをお持ちでも当日ご入場をお断りさせていただきます。体調がすぐれない場合は、無理なさらぬようお願いいたします。\n※発熱や、咳、全身痛、倦怠感等、風邪の症状が少しでもみられる方\n※咳、くしゃみ、鼻水などにより、周りのお客様を不安にさせてしまう可能性のある方、また薬等の服用により、上記症状を一時的におさえている方\n※主催者、係員の指示に従っていただけない方\n・入場時にチケット画面をご提示ください。\n・ご入場後に体調を崩された場合は、速やかにスタッフにお申し出ください。(症状によりご退場をお願いさせていただく場合もございます。)\n・会場内に喫煙所はございません。また、喫煙の為の再入場も出来ません。\n・会場周辺での入り待ち、出待ち行為は一切禁止といたします。\n・アルコールを摂取されているお客様のご入場はお断りさせていただいています。\n上記注意事項に関しては、随時更新される場合がございます。\n当日は係員の指示を必ずお守りいただき、安全な公演実施にご協力をお願い致します。 \n\n  \n▼チケット情報 \n・Sチケット：6\,000円( 最前方エリア / 当日撮り下ろし集合チェキ1枚※1＋コメントチェキ撮影券1枚付き ※2 )\n・Aチケット：2\,000円 ( 前方エリア )\n・初めましてチケット：0円 ( 後方エリア / ※3)\n\n▼購入先\nhttps://ticketdive.com/event/WVsYSiscGBgXc7IdY6AB\n▼券売スケジュール\n先行(抽選)：7/28(日)21:00〜8/1(木)23:59\n当落：8/2(金)予定\n一般(先着)：8/3(土)21:00〜
URL:https://1469st.com/event/%e3%80%908-25-%e5%a4%a7%e9%98%aa%e5%85%ac%e6%bc%94%e3%80%91kimi2michu-%e7%9c%9f%e5%a4%8f%e3%81%ae%e6%9d%b1%e5%90%8d%e9%98%aa%e3%83%84%e3%82%a2%e3%83%bc2024/
CATEGORIES:event
END:VEVENT
BEGIN:VEVENT
DTSTART;TZID=Asia/Tokyo:20240826T080000
DTEND;TZID=Asia/Tokyo:20240826T170000
DTSTAMP:20260422T175921
CREATED:20240815T010255Z
LAST-MODIFIED:20241003T173437Z
UID:592-1724659200-1724691600@1469st.com
SUMMARY:StrawberryGirls 大阪単独ライブ
DESCRIPTION:8月26日(月)\n「StrawberryGirls 大阪単独ライブ」\n\nOPEN18:30/START19:00\n 大阪心斎橋SHOVEL\n\n一部撮影可能\n※撮影可能曲は後日発表\n\ntiget.net/events/337668\nSチケ:¥5\,000(8/15 21:00〜)\n 一般:¥1\,000(8/15 21:30〜)\n\nSチケット特典\n◇ワイドチェキ1枚\n※囲み撮影(指名メンバー1人のサイン)か\n事前撮影時(メンバー全員のサイン)のものかはお選び頂けます\n◇写メ券1枚
URL:https://1469st.com/event/strawberrygirls-%e5%a4%a7%e9%98%aa%e5%8d%98%e7%8b%ac%e3%83%a9%e3%82%a4%e3%83%96/
CATEGORIES:event
END:VEVENT
BEGIN:VEVENT
DTSTART;TZID=Asia/Tokyo:20240828T080000
DTEND;TZID=Asia/Tokyo:20240828T170000
DTSTAMP:20260422T175921
CREATED:20240711T070103Z
LAST-MODIFIED:20241003T173415Z
UID:519-1724832000-1724864400@1469st.com
SUMMARY:ホンモノ怜・PP合同生誕ワンマン 『宴』
DESCRIPTION:8/28 心斎橋SHOVEL \nホンモノPP 怜生誕ワンマン 『宴』 \nOPEN18:00/START18:30 \nADV¥4\,000-/DOOR¥4\,500- \n  \nチケット \nA:e+　https://eplus.jp/sf/detail/4141230001-P0030001P021001?P1=0175 \nB:バンド予約 \nC:当日
URL:https://1469st.com/event/coming-soon-3/
CATEGORIES:event
END:VEVENT
BEGIN:VEVENT
DTSTART;TZID=Asia/Tokyo:20240830T080000
DTEND;TZID=Asia/Tokyo:20240830T170000
DTSTAMP:20260422T175921
CREATED:20240713T032842Z
LAST-MODIFIED:20241003T173348Z
UID:529-1725004800-1725037200@1469st.com
SUMMARY:『ひろ。生まれちゃった！』
DESCRIPTION:2024.08.30(金)　心斎橋SHOVEL \n『ひろ。生まれちゃった！』 \nOPEN/START 16:00/16:30\n前売 4\,000- /当日 4500-(w/1D) \n出演\nNiEL\nFree Aqua Butterfly\naoüui mani∴THELEMA∴\n九州亜尓武威同鋼會\nHALO\nBreathkill Dog\n「エレクトリックコール坊や」 \n入場順 \n1.TIGET予約  8/3 12:00〜  https://tiget.net/events/336636 \n2.当日
URL:https://1469st.com/event/%e3%80%8e%e3%81%b2%e3%82%8d%e3%80%82%e7%94%9f%e3%81%be%e3%82%8c%e3%81%a1%e3%82%83%e3%81%a3%e3%81%9f%ef%bc%81%e3%80%8f/
CATEGORIES:event
END:VEVENT
BEGIN:VEVENT
DTSTART;TZID=Asia/Tokyo:20240831T080000
DTEND;TZID=Asia/Tokyo:20240831T170000
DTSTAMP:20260422T175921
CREATED:20240711T071054Z
LAST-MODIFIED:20241003T173304Z
UID:526-1725091200-1725123600@1469st.com
SUMMARY:HARD ROCK REBELLION Vol.2
DESCRIPTION:開催延期‼ \n  \nHARD ROCK REBELLION Vol.2 \nOPEN 16:30 / START 17:00 \nADV 2\,500yen / DOOR 3\,000yen \n出演 \nA4/B4 \nSTICKY SWEET \nDead Quartet \nCloud number 10
URL:https://1469st.com/event/hard-rock-rebellion-vol-2/
CATEGORIES:event
END:VEVENT
END:VCALENDAR