BEGIN:VCALENDAR
VERSION:2.0
PRODID:-//心斎橋ショベル - ECPv6.6.3//NONSGML v1.0//EN
CALSCALE:GREGORIAN
METHOD:PUBLISH
X-ORIGINAL-URL:https://1469st.com
X-WR-CALDESC:心斎橋ショベル のイベント
REFRESH-INTERVAL;VALUE=DURATION:PT1H
X-Robots-Tag:noindex
X-PUBLISHED-TTL:PT1H
BEGIN:VTIMEZONE
TZID:Asia/Tokyo
BEGIN:STANDARD
TZOFFSETFROM:+0900
TZOFFSETTO:+0900
TZNAME:JST
DTSTART:20240101T000000
END:STANDARD
END:VTIMEZONE
BEGIN:VEVENT
DTSTART;TZID=Asia/Tokyo:20240504T170000
DTEND;TZID=Asia/Tokyo:20240504T200000
DTSTAMP:20260422T204728
CREATED:20240427T130907Z
LAST-MODIFIED:20241003T180521Z
UID:297-1714842000-1714852800@1469st.com
SUMMARY:レボリューションサミット Vol.4
DESCRIPTION:  \n\n\n\nOPEN 17:00/START   17:30前売り 3500円当日 4000円(1D別) \n 
URL:https://1469st.com/event/%e3%83%ac%e3%83%9c%e3%83%aa%e3%83%a5%e3%83%bc%e3%82%b7%e3%83%a7%e3%83%b3%e3%82%b5%e3%83%9f%e3%83%83%e3%83%88-vol-4/
CATEGORIES:event
END:VEVENT
BEGIN:VEVENT
DTSTART;TZID=Asia/Tokyo:20240505T180000
DTEND;TZID=Asia/Tokyo:20240505T233000
DTSTAMP:20260422T204728
CREATED:20240401T052609Z
LAST-MODIFIED:20241003T170635Z
UID:150-1714932000-1714951800@1469st.com
SUMMARY:大山まき Acometal Neo Tour
DESCRIPTION:2024/05/05 MAKI OYAMA -大山まき- OPEN 17:30/START   18:00
URL:https://1469st.com/event/makioyama20240505/
LOCATION:心斎橋ショベル\, 西心斎橋２丁目４−１７\, 大阪市中央区\, 大阪\, 5420086\, 日本
CATEGORIES:event
END:VEVENT
BEGIN:VEVENT
DTSTART;TZID=Asia/Tokyo:20240525T160000
DTEND;TZID=Asia/Tokyo:20240525T200000
DTSTAMP:20260422T204728
CREATED:20240427T131053Z
LAST-MODIFIED:20241003T170616Z
UID:300-1716652800-1716667200@1469st.com
SUMMARY:HARD ROCK REBELLION
DESCRIPTION:Shovelリニューアル!!新店長就任イベント第一弾HARD ROCK REBELLION \n\n\n\n2024/05/25 \n\n\n\nOPEN 16:00/START   16:30チケット 1000円 (入場時1D別途)
URL:https://1469st.com/event/shovel%e3%83%aa%e3%83%8b%e3%83%a5%e3%83%bc%e3%82%a2%e3%83%ab%e6%96%b0%e5%ba%97%e9%95%b7%e5%b0%b1%e4%bb%bb%e3%82%a4%e3%83%99%e3%83%b3%e3%83%88%e7%ac%ac%e4%b8%80%e5%bc%be/
CATEGORIES:event
END:VEVENT
BEGIN:VEVENT
DTSTART;TZID=Asia/Tokyo:20240526T133000
DTEND;TZID=Asia/Tokyo:20240526T210000
DTSTAMP:20260422T204728
CREATED:20240427T131210Z
LAST-MODIFIED:20241003T170548Z
UID:302-1716730200-1716757200@1469st.com
SUMMARY:SPICY BOYS with Sugar Boy We Are BOYS
DESCRIPTION:2024/05/26SPICY BOYS with Sugar Boy We Are BOYS \n\n\n\n1部 OPEN 12:45/START 13:302部 OPEN 18:00/START 18:30
URL:https://1469st.com/event/spicy-boys-with-sugar-boy-we-are-boys/
CATEGORIES:event
END:VEVENT
BEGIN:VEVENT
DTSTART;TZID=Asia/Tokyo:20240527T180000
DTEND;TZID=Asia/Tokyo:20240527T220000
DTSTAMP:20260422T204728
CREATED:20240427T131323Z
LAST-MODIFIED:20241003T170535Z
UID:304-1716832800-1716847200@1469st.com
SUMMARY:hi-right pre 天上天下唯我独尊
DESCRIPTION:2024/05/27hi-right pre 天上天下唯我独尊 \n\n\n\nOPEN 18:00/START   18:30前売り 1000円 (＋1D)当日 1500円(＋1D)
URL:https://1469st.com/event/hi-right-pre-%e5%a4%a9%e4%b8%8a%e5%a4%a9%e4%b8%8b%e5%94%af%e6%88%91%e7%8b%ac%e5%b0%8a/
CATEGORIES:event
END:VEVENT
END:VCALENDAR